BEGIN:VCALENDAR
VERSION:2.0
PRODID:-//https://www.gkp.hr///NONSGML kigkonsult.se iCalcreator 2.10.15//
METHOD:PUBLISH
BEGIN:VEVENT
UID:20260424T010858UTC-9526WOkfzU@https://www.gkp.hr/
DTSTAMP:20260424T010858Z
DESCRIPTION:19:00 - Predstavljanje monografije DESET GODINA POŽARTA\n19:30 
 - SLIKARI KRAJA\, ISKONSKO STVARALAŠTVO: Filip Čorak\, samostalna izložba
 \nIzložba je otvorena od 13. prosinca do&nbsp\; 27. prosinca 2019. https:/
 /www.gkp.hr/program/event/396-predstavljanje-monografije-pozart-x-slikari-
 kraja-filip-corak
DTSTART:20191212T190000Z
DTEND:20191212T200000Z
LOCATION:Gradsko kazalište Požega - Galerija 'Ciraki' ()
SUMMARY:Predstavljanje monografije Požart X + Slikari kraja: Filip Čorak
URL:https://www.gkp.hr/program/event/396-predstavljanje-monografije-pozart-
 x-slikari-kraja-filip-corak
END:VEVENT
END:VCALENDAR
