BEGIN:VCALENDAR
VERSION:2.0
PRODID:-//https://www.gkp.hr///NONSGML kigkonsult.se iCalcreator 2.10.15//
METHOD:PUBLISH
BEGIN:VEVENT
UID:20260424T040352UTC-6915hksz81@https://www.gkp.hr/
DTSTAMP:20260424T040352Z
DESCRIPTION:Koncert Vile Velebita https://www.gkp.hr/program/event/399-vila
 -velebita-koncert
DTSTART:20191213T190000Z
DTEND:20191213T200000Z
LOCATION:Gradsko kazalište Požega (Trg Svetog Trojstva\, 34000\, Požega\, C
 roatia)
SUMMARY:Vila Velebita - koncert
URL:https://www.gkp.hr/program/event/399-vila-velebita-koncert
END:VEVENT
END:VCALENDAR
