BEGIN:VCALENDAR
VERSION:2.0
PRODID:-//https://www.gkp.hr///NONSGML kigkonsult.se iCalcreator 2.10.15//
METHOD:PUBLISH
BEGIN:VEVENT
UID:20260426T030624UTC-9401lKtimw@https://www.gkp.hr/
DTSTAMP:20260426T030624Z
DESCRIPTION:Predstava se izvodi uz dodjelu poklona za Udruženje obrtnika gr
 ada Požege.\n-u 10\,00 h\, 12\,00 h i 14\,00 h.\nRežija i tekst: Maja Žepć
 ević Matić\nIgraju: Boris Benčić\, Ankica Ivanković\, Kornelija Marks\, Mo
 nika Kostić\, Branisalv Stojaković i Hana Boban https://www.gkp.hr/program
 /event/402-crvenkapica-ili-trnoruzica-biraj-predstava-uz-dodjelu-poklona
DTSTART;VALUE=DATE:20191215
LOCATION:Gradsko kazalište Požega (Trg Svetog Trojstva\, 34000\, Požega\, C
 roatia)
SUMMARY:Crvenkapica ili Trnoružica? Biraj! - predstava uz dodjelu poklona
URL:https://www.gkp.hr/program/event/402-crvenkapica-ili-trnoruzica-biraj-p
 redstava-uz-dodjelu-poklona
END:VEVENT
END:VCALENDAR
