BEGIN:VCALENDAR
VERSION:2.0
PRODID:-//https://www.gkp.hr///NONSGML kigkonsult.se iCalcreator 2.10.15//
METHOD:PUBLISH
BEGIN:VEVENT
UID:20260425T132008UTC-46246XS7VP@https://www.gkp.hr/
DTSTAMP:20260425T132008Z
DESCRIPTION:Predstavu igramo za djecu potrebitih i višečlanih obitelji grad
 a Požege\, te djecu s rijetkim bolestima. https://www.gkp.hr/program/event
 /403-crvenkapica-ili-trnoruzica-biraj-predstava-uz-dodjelu-poklona
DTSTART:20191209T140000Z
DTEND:20191209T144000Z
LOCATION:Gradsko kazalište Požega (Trg Svetog Trojstva\, 34000\, Požega\, C
 roatia)
SUMMARY:Crvenkapica ili Trnoružica? Biraj! - predstava uz dodjelu poklona
URL:https://www.gkp.hr/program/event/403-crvenkapica-ili-trnoruzica-biraj-p
 redstava-uz-dodjelu-poklona
END:VEVENT
END:VCALENDAR
