BEGIN:VCALENDAR
VERSION:2.0
PRODID:-//https://www.gkp.hr///NONSGML kigkonsult.se iCalcreator 2.10.15//
METHOD:PUBLISH
BEGIN:VEVENT
UID:20260424T173253UTC-0709sT1GzT@https://www.gkp.hr/
DTSTAMP:20260424T173253Z
DESCRIPTION:14. Zimska produkcija Uo plesna radionica Ilijane Lončar - Mašt
 ajmo zajedno\n25. siječnja u 11.00 h Premijera https://www.gkp.hr/program/
 event/413-14-zimska-produkcija-uo-plesna-radionica-ilijane-loncar
DTSTART:20200125T110000Z
DTEND:20200125T120000Z
LOCATION:Gradsko kazalište Požega (Trg Svetog Trojstva\, 34000\, Požega\, C
 roatia)
SUMMARY:14. Zimska produkcija - UO Plesna radionica Ilijane Lončar
URL:https://www.gkp.hr/program/event/413-14-zimska-produkcija-uo-plesna-rad
 ionica-ilijane-loncar
END:VEVENT
END:VCALENDAR
