BEGIN:VCALENDAR
VERSION:2.0
PRODID:-//https://www.gkp.hr///NONSGML kigkonsult.se iCalcreator 2.10.15//
METHOD:PUBLISH
BEGIN:VEVENT
UID:20260425T132054UTC-9958BoifWc@https://www.gkp.hr/
DTSTAMP:20260425T132054Z
DESCRIPTION:14. Zimska pordukcija UO Plesna radionica Iljane Lončar - Mašta
 jmo zajedno\n-11.00 h repriza\n-18.00 repriza https://www.gkp.hr/program/e
 vent/415-14-zimska-produkcija-uo-plesna-radionica-ilijane-loncar-repriza
DTSTART;VALUE=DATE:20200126
LOCATION:Gradsko kazalište Požega (Trg Svetog Trojstva\, 34000\, Požega\, C
 roatia)
SUMMARY:14. Zimska produkcija - UO Plesna radionica Ilijane Lončar /repriza
URL:https://www.gkp.hr/program/event/415-14-zimska-produkcija-uo-plesna-rad
 ionica-ilijane-loncar-repriza
END:VEVENT
END:VCALENDAR
