BEGIN:VCALENDAR
VERSION:2.0
PRODID:-//https://www.gkp.hr///NONSGML kigkonsult.se iCalcreator 2.10.15//
METHOD:PUBLISH
BEGIN:VEVENT
UID:20260423T020340UTC-0126uHURSK@https://www.gkp.hr/
DTSTAMP:20260423T020340Z
DESCRIPTION:Proglašenje najboljih sportaša grada Požege i dodjela priznanja
  za 2019. godinu. https://www.gkp.hr/program/event/420-proglasenje-najbolj
 ih-sportasa-grada-pozege
DTSTART:20200129T180000Z
DTEND:20200129T190000Z
LOCATION:Gradsko kazalište Požega (Trg Svetog Trojstva\, 34000\, Požega\, C
 roatia)
SUMMARY:Proglašenje najboljih sportaša grada Požege 
URL:https://www.gkp.hr/program/event/420-proglasenje-najboljih-sportasa-gra
 da-pozege
END:VEVENT
END:VCALENDAR
