BEGIN:VCALENDAR
VERSION:2.0
PRODID:-//https://www.gkp.hr///NONSGML kigkonsult.se iCalcreator 2.10.15//
METHOD:PUBLISH
BEGIN:VEVENT
UID:20260423T125431UTC-8440Kvx39N@https://www.gkp.hr/
DTSTAMP:20260423T125431Z
DESCRIPTION:Zbog samoizolacije glumice predstava se odgađa za 6. siječnja 2
 022. g.\nAutor bajke “Djevojčica sa šibicama” danski je pisac Hans Christi
 an Andersen. Ova bajka priča je o maloj siromašnoj djevojčici koja je nast
 ojala prodati šibice jer joj je to naredio strogi otac. Nije se smjela vra
 titi kući dok to ne bi učinila jer bi dobila batine. Trudila se prodati ši
 bice\, ali zbog hladnoće umire na smrznutom pločniku. Pokušala se ugrijati
  posljednjim šibicama koje je držala u ruci i kada bi svaku zapalila ukaza
 li bi se oni događaji o kojima je uvijek sanjala.Režija i adaptacija tekst
 a: Ružica MaurusČitaju: Matko Trnačić\, Ružica Maurus i Anabela SulićSceno
 grafija: Marija Matijanić i Renato PokRasvjeta i ton: Goran KrmpotićKostim
 i: Ljiljana RodićCijena ulaznice: 20\,00 kn.Informacije i rezervacije na b
 roj 034/273-161. ili putem Facebooka.\nUlaz uz COVID potvrde. Djeca su izu
 zeta obveze posjedovanja COVID potvrda.Hvala na razumijevanju! https://www
 .gkp.hr/program/event/438-drvo-bajki-djevojcica-sa-sibicama-odgodeno
DTSTART:20211231T100000Z
DTEND:20211231T103000Z
LOCATION:Gradsko kazalište Požega (Trg Svetog Trojstva\, 34000\, Požega\, C
 roatia)
SUMMARY:DRVO BAJKI - Djevojčica sa šibicama/ ODGOĐENO
URL:https://www.gkp.hr/program/event/438-drvo-bajki-djevojcica-sa-sibicama-
 odgodeno
END:VEVENT
END:VCALENDAR
