BEGIN:VCALENDAR
VERSION:2.0
PRODID:-//https://www.gkp.hr///NONSGML kigkonsult.se iCalcreator 2.10.15//
METHOD:PUBLISH
BEGIN:VEVENT
UID:20260419T184349UTC-1843NvlLiL@https://www.gkp.hr/
DTSTAMP:20260419T184349Z
DESCRIPTION:'Guja u njedrima' ('Snake In The Grass' 2002.) kazališni tekst 
 poznatog i svjetski priznatog autora Alana Ayckbourna na zanimljiv i intri
 gantan način donosi dojmljivu i slojevitu priču.Nakon trideset godina\, An
 abela dolazi u obiteljski dom gdje živi njena mlađa sestra Miriam koja je 
 cijeli svoj život ostala uz oca. Neposredno prije smrti otac je neočekivan
 o ostavio cijelo nasljedstvo Anabeli.Alisa\, njegovateljica pokojnog oca\,
  ispriča joj kako je od Miriam dobila otkaz prije negoli je otac preminuo 
 i tvrdi da je njena sestra ubila oca. Alisa prijeti i ucjenjuje kako će sv
 e prijaviti policiji ukoliko joj se ne plati pozamašna svota novca kao kom
 penzacija za otkaz i šutnju. Dvije sestre\, Anabela i Miriam\, ujedinjuju 
 se u odluci da pokušaju riješiti problem s ucjenom. Vješto vođena priča u 
 više obrata donosi studiju obiteljskih odnosa između tri žene kompleksnih 
 i „pomaknutih' karaktera.U izazovnim glumačkim interpretacijama\, kroz crn
 i humor i u duhu napetog psihološkog trilera\, pratimo potpuno neočekivane
  smjerove\, zaplete i rasplete.\n&nbsp\;\nAutor teksta: Alan Ayckbourn\nPr
 ijevod: Vladimir Cvetković Sever\nRedatelj: Rajko Minković\n&nbsp\;Uloge:
 \nMiriam - Ines Bojanić\nAnabela - Jasna Palić Picukarić\nAlisa - Hana Heg
 edušić / Ružica Maurus\n&nbsp\;\nScenografkinja: Irena Kraljić\nKostimogra
 fkinja: Ana Mikulić\nRasvjeta: Goran Krmpotić\nTon: Dario Hak\nGarderobije
 rka: Ljiljana Rodić\nScenski poslovi: Renato Pok\n&nbsp\;\nPREMIJERA: 4. l
 ipnja 2021.\nDizajn plakata i programske knjižice: Vladimir Resner\n&nbsp\
 ;\nUlaz s pozivnicom.&nbsp\;Program se održava uz poštivanje svih propisan
 ih epidemioloških mjera. https://www.gkp.hr/program/event/462-premijera-gu
 ja-u-njedrima
DTSTART:20210604T180000Z
DTEND:20210604T192000Z
LOCATION:Gradsko kazalište Požega (Trg Svetog Trojstva\, 34000\, Požega\, C
 roatia)
SUMMARY:PREMIJERA -  Guja u njedrima
URL:https://www.gkp.hr/program/event/462-premijera-guja-u-njedrima
END:VEVENT
END:VCALENDAR
