BEGIN:VCALENDAR
VERSION:2.0
PRODID:-//https://www.gkp.hr///NONSGML kigkonsult.se iCalcreator 2.10.15//
METHOD:PUBLISH
BEGIN:VEVENT
UID:20260420T203607UTC-2695IEc05a@https://www.gkp.hr/
DTSTAMP:20260420T203607Z
DESCRIPTION:Šašava avantura - Šašavci ( predstava za djecu)\nŠto se dogodi 
 kad se okupi fantastično društvo Šašavaca i odluči pripremiti rođendansko 
 iznenađenje – odlazak u novu šašavu avanturu. Je li to planinarenje na Pak
 lenici\, posjet nekom nacionalnom parku ili skijanje u Alpama?\nMagarac Ro
 ko je smislio sjajan plan iznenađenja za prijateljicu vjevericu Taru\, a u
  tome mu pomažu vjerni prijatelji lisica Liana i medvjed Borna. Iskusna li
 sica pomno je isplanirala putovanje\, medvjed Borna je sjajan vozač\, Roko
  najbolji u učenju plivanja\, a Tara najbolja u pjevanju pjesmica.\nOva ra
 zigrana ekipa šumskih prijatelja našla se u veseloj i razigranoj avanturi 
 koja je ispunjena smijehom\, plesom i pričom o pravom prijateljstvu.\nDođi
 te i pogledajte predstavu namijenjenu djeci\, kako šašavo prijateljstvo mo
 že riješiti sve probleme i naučiti nas kako je uz prave prijatelje u život
 u sve lakše.Idejni kreator Šašavaca: Vedran Žanko\nTekst i režija: Marijan
 a Matoković i Lidija Kraljić\nScenski pokret: Tihana Strmečki\nScenografij
 a: Irena Kraljić\nKostimografija: Avoltha Design\nGlazba: Dražen Žanko i V
 edran Žanko\nGlazbena pedagoginja: Iva Bardun\nGLUME:Marin Bukvić\, Maja Š
 ivak\, Lucija Tandara\, Robert Janđel\, Marko Dumančić\, Lucija Jakupčić\,
  Matea Bardun\, Martina Slakoper\nInformacije\, rezervacije i prodaja ulaz
 nica od 15. lipnja na tel. 034/273-161.Cijena ulaznice 25\,00 knProgram se
  održava uz poštivanje svih propisanih epidemioloških mjera. https://www.g
 kp.hr/program/event/472-6-kafe-sasava-avantura
DTSTART:20210703T090000Z
DTEND:20210703T094000Z
LOCATION:Gradsko kazalište Požega (Trg Svetog Trojstva\, 34000\, Požega\, C
 roatia)
SUMMARY:6. KaFe/ Šašava avantura
URL:https://www.gkp.hr/program/event/472-6-kafe-sasava-avantura
END:VEVENT
END:VCALENDAR
