BEGIN:VCALENDAR
VERSION:2.0
PRODID:-//https://www.gkp.hr///NONSGML kigkonsult.se iCalcreator 2.10.15//
METHOD:PUBLISH
BEGIN:VEVENT
UID:20260424T092643UTC-0672t0r6hH@https://www.gkp.hr/
DTSTAMP:20260424T092643Z
DESCRIPTION:Jedna od najpoznatijih bajki u doba Adventa svakako je Orašar. 
 Iako svjetsku slavu stječe ponajviše kroz baletna uprizorenja na glazbu Ča
 jkovskog\, sve češće se postavlja i u drugim medijima. Tako je i ova adapt
 acija zaživjela u polunarativnom modelu u kojem pratimo priču odrasle Klar
 e koja se prisjeća kako je dobila Orašara. Priča kreće na Badnju večer\, n
 etom prije bala\, ujak Drosselmeyer dariva Klaru i Fritzu. Za Klaru Orašar
  je najljepši poklon kojeg je mogla dobiti\, ali prava avantura kreće nako
 n što joj Drosselmeyer otkrije kakve čarobne moći skriva njezin poklon. Za
  Klaru kreće niz izazova u kojima susreće Kralja Miševa\, Snježne Pahuljic
 e\, Šećernu Vilu i Princa. Čitavo putovanje traje tek nekoliko zemaljskih 
 sekundi\, ali za nju to je priča koju nikada neće zaboraviti. Stoga su poz
 vani svi koji vjeruju u čaroliju Orašara da se pridruže Klarinim avanturam
 a u Badnjoj večeri.Adaptacija teksta: Marijana MatokovićRežija: Marijana M
 atoković ∕ Dario HakScenografija: Autorski timKostimografija: Ljiljana Rod
 ić/ Dario HakDizajn video projekcija: Dario HakOblikovanje svjetla: Goran 
 KrmpotićTon majstor: Renato PokDizajn plakata i scenski poslovi: Marija Ma
 tijanić\nGlume:Kornelija Marks (Naratorica\, Majka\, Kralj Miševa)Monika K
 ostić (Fritza\, Šećerna vila)Laura Matijanić (Klara)Dario Hak (Drosselmeye
 r\, Orašar\, Princ) https://www.gkp.hr/program/event/533-orasar-gradsko-ka
 zaliste-pozega
DTSTART:20211231T150000Z
DTEND:20211231T153000Z
LOCATION:Sportsko rekreacijski centar Požega  (Sportsko rekreacijski centar
  Požega )
SUMMARY:Orašar - Gradsko kazalište Požega
URL:https://www.gkp.hr/program/event/533-orasar-gradsko-kazaliste-pozega
END:VEVENT
END:VCALENDAR
