BEGIN:VCALENDAR
VERSION:2.0
PRODID:-//https://www.gkp.hr///NONSGML kigkonsult.se iCalcreator 2.10.15//
METHOD:PUBLISH
BEGIN:VEVENT
UID:20260424T035117UTC-0423FJgBBL@https://www.gkp.hr/
DTSTAMP:20260424T035117Z
DESCRIPTION:Damirov Django Group - promocija albuma 'Smile'\nJazz koncert\n
 Bruno Urlić – violinaJuraj Markač – gitaraMiroslav Čehaić – gitaraŽeljko B
 ilbija – basPaul Kempf – klavirGoran Brebrić – cajonDamir Kukuruzović\, ja
 zz gitarist\, dobitnik brojnih glazbenih priznanja i najistaknutiji hrvats
 ki predstavnik glazbe Djanga Reinhardta\, naglo nas je napustio u prosincu
  2020.g ostavljajući za sobom bogatu glazbenu ostavštinu i svoj Django Gro
 up kojeg je utemeljio 2005.g i od tad su bili neizostavnim dijelom na svim
  relevantnim festivalima u zemlji i inozemstvu. Sam Kukuruzović ubrajao se
  u red gitarističkih virtuoza koji je uz iznimne sviračke vještine uspijev
 ao dosegnuti najvišu estetsku razinu. Surađivao je s najvećim glazbenim vi
 rtuozima današnjice: Stochelom Rosenbergom\, Robinom Nolanom\, Angelom Deb
 arreom\, Raphaelom Faysom\, Ludovicom Beierom\, Paulus Schaferom\, Wawau A
 dlerom\, Yorgui Loefflerom\, Joschom Stephanom\, Gismo Grafom\, Sinanom Al
 imanovićem\, Adrianom Burnsom i mnogim drugima. Upravo su Robin Nolan\, Gi
 smo Graf\, Sinan Alimanović te Paulus Schäfer gostovali na njegovu zadnjem
  albumu ˝Smile˝ koji je u kolovozu 2021. godine ugledao svjetlost dana. Ra
 nije je snimio CD Green Hill Gypsy Swing s legendarnim Angelom Debarrom\,“
  Mnouche“ s Ludovicom Beierom\,“ My Django Familly“ s Wawau Adlerom i Vlat
 kom Stefanovskim\, a 2019.g objavio je CD i vinil sa Zoranom Predinom „Zor
 an pjeva Arsena“ uz pratnju svoga Django Groupa i Matije Dedića.Njegov sas
 tav nastavlja dalje gostovati diljem Hrvatske i izvan njenih granica kao D
 AMIROV DJANGO GROUP.\nCijena ulaznice: 40.00 kn&nbsp\;\nRezervacije: 034/2
 73-161\, marketing@gkp.hr\, FB\nRadno vrijeme blagajne kazališta – srijedo
 m od 10 do 12 sati te sat vremena prije početka predstave.\n&nbsp\; https:
 //www.gkp.hr/program/event/557-damirov-django-group-promocija-albuma-smile
DTSTART:20220331T180000Z
DTEND:20220331T193000Z
LOCATION:Gradsko kazalište Požega (Trg Svetog Trojstva\, 34000\, Požega\, C
 roatia)
SUMMARY:Damirov Django Group - promocija albuma 'Smile'
URL:https://www.gkp.hr/program/event/557-damirov-django-group-promocija-alb
 uma-smile
END:VEVENT
END:VCALENDAR
