BEGIN:VCALENDAR
VERSION:2.0
PRODID:-//https://www.gkp.hr///NONSGML kigkonsult.se iCalcreator 2.10.15//
METHOD:PUBLISH
BEGIN:VEVENT
UID:20260424T140950UTC-1714eFh7o5@https://www.gkp.hr/
DTSTAMP:20260424T140950Z
DESCRIPTION:Koprodukcija Kazališta Moruzgva i Kazališta Marina Držića Dubro
 vnik.Autorica priče: Tanja MravakAdaptacija priče\, dramaturgija i režija:
  Tamara DamjanovićUloge:Ecija Ojdanić/Barbara NolaVedran Mlikota/Goran Grg
 ićCsilla Barath Bastaić/Iva KraljevićPetra Svrtan/Iva Šimić ŠakoronjaPaško
  Vukasović/Ivan ČuićRiječ je o komediji Jel’ tako\, Zorane? koja je obitel
 jska priča\, a možda na trenutke i topla obiteljska priča.Obitelj iz ove p
 riče koju portretiraju Vedran Mlikota\, Barbara Nola\, Ivan Čuić\, Petra S
 vrtan i Iva Kraljević\, nosi se s netom učinjenim sramotnim činom i takav 
 ispad jednog njihovog člana dobrano protrese svakoga od njih. Sramotan čin
  možda bi ostao i skriven\, možda čak ni odseljene kćeri ne bi za njega zn
 ale\, da netko mobitelom nije snimio njihovog brata kako se gologuz na pla
 ži nagurava s dva golobrada mladića druge nacionalnosti. Taj čin ovoj obit
 elji ne ostavlja puno manevarskog prostora nego traži od njih da se okupe\
 , zbiju u kuću i pokušaju sanirati svježu ranu. Ali avaj!Rana će se produb
 iti\, proširiti i umnožiti. Trajni međugeneracijski sukobi\, prijenosi tra
 uma\, podrazumijevanja\, očekivanja\, skrivanja\, a opet posve organska po
 treba jednih za drugima tema je koja me\, upravo zbog svog kontrasta i nje
 govog literarnog potencijala\, stalno zaokuplja. Uz taj kontrast značajan 
 je i onaj kojeg donosi nesklad suvremenog života i tradicionalne obitelji\
 , potrebe za osobnom izgradnjom i čežnje za pripadnošću. Sve to dvije kćer
 i\, zet\, otac i majka donose u jednu kuhinju s blagovaonicom i dnevnim bo
 ravkom\, zatvoreni kao u ekspres loncu.\nCijena ulaznice: 50.00 kn (studen
 ti i umirovljenici: 40.00 kn)Rezervacije: 034/273-161\, marketing@gkp.hr\,
  FBRadno vrijeme blagajne kazališta – srijedom od 10 do 12 sati te sat vre
 mena prije početka predstave https://www.gkp.hr/program/event/560-jel-tako
 -zorane-kazaliste-moruzgva
DTSTART:20220408T180000Z
DTEND:20220408T192000Z
LOCATION:Gradsko kazalište Požega (Trg Svetog Trojstva\, 34000\, Požega\, C
 roatia)
SUMMARY:Jel' tako\, Zorane? - Kazalište Moruzgva
URL:https://www.gkp.hr/program/event/560-jel-tako-zorane-kazaliste-moruzgva
END:VEVENT
END:VCALENDAR
