BEGIN:VCALENDAR
VERSION:2.0
PRODID:-//https://www.gkp.hr///NONSGML kigkonsult.se iCalcreator 2.10.15//
METHOD:PUBLISH
BEGIN:VEVENT
UID:20260421T171919UTC-4192xVNDjR@https://www.gkp.hr/
DTSTAMP:20260421T171919Z
DESCRIPTION:Gostovanje u Kaptolu\nDrvo bajki 'Sluga i gospodar'\nRežija: Da
 rio Hak\nIzvode: Kornelija Marks\, Laura Matijanić\, Marta Matoković\nSlug
 a i gospodar je priča o blagodatima mudrosti te neisplativosti zloće. Tko 
 će ovdje koga nadmudriti\, a tko će batinu izvući\, pogodite sami ili dođi
 te i s nama otkrijte.\nUlaz slobodan! https://www.gkp.hr/program/event/653
 -drvo-bajki-gostovanje-u-kaptolu
DTSTART:20221218T180000Z
DTEND:20221218T184000Z
LOCATION:Kaptol ()
SUMMARY:Drvo bajki - gostovanje u Kaptolu
URL:https://www.gkp.hr/program/event/653-drvo-bajki-gostovanje-u-kaptolu
END:VEVENT
END:VCALENDAR
