BEGIN:VCALENDAR
VERSION:2.0
PRODID:-//https://www.gkp.hr///NONSGML kigkonsult.se iCalcreator 2.10.15//
METHOD:PUBLISH
BEGIN:VEVENT
UID:20260424T115821UTC-13688WKLiv@https://www.gkp.hr/
DTSTAMP:20260424T115821Z
DESCRIPTION:Redatelji: Andrija Mardešić\, David Kapac Triler/crna komedija/
 drama\, Hrvatska\, 2022.\, 104 min.\nGlumci: M. Manojlović\, G. Bogdan\, I
 . Roščić\, R. Sikavica\, K. Šišmanović\nVoljeni stric vraća se iz Njemačke
  kući za blagdane i dijeli poklone. Ponovno na okupu\, obitelj pristupa tr
 adicionalnom božićnom ručku. Radosno druženje iznenada prekida zvonjava mo
 bitela…. Ubrzo postaje jasno da purica nije jedino što se može nožem rezat
 i i da se za prepunom blagdanskom trpezom\, osim hrane\, nožem može rezati
  i napetost.\n2 ZLATNE ARENE - PULA 2022. NAGRADE ŽIRIJA: BRAUNSCHWEIG / K
 ARLOVY VARY\nULAZ SLOBODAN SVOJOM DONACIJOM POMOGNITE PRIKAZIVANJE OVOG FI
 LMAREZERVIRAJTE ULAZNICE SMS PORUKOM (prezime i broj ulaznica) NA BROJ 098
  520 560\n&nbsp\;\n&nbsp\; https://www.gkp.hr/program/event/658-stric-igra
 ni-film
DTSTART:20221219T180000Z
DTEND:20221219T182000Z
LOCATION:Gradsko kazalište Požega (Trg Svetog Trojstva\, 34000\, Požega\, C
 roatia)
SUMMARY:Stric - igrani film
URL:https://www.gkp.hr/program/event/658-stric-igrani-film
END:VEVENT
END:VCALENDAR
