BEGIN:VCALENDAR
VERSION:2.0
PRODID:-//https://www.gkp.hr///NONSGML kigkonsult.se iCalcreator 2.10.15//
METHOD:PUBLISH
BEGIN:VEVENT
UID:20260424T034505UTC-0071p2NtbD@https://www.gkp.hr/
DTSTAMP:20260424T034505Z
DESCRIPTION:Koncert 'Požego\, najdraži grade' - Požeški tamburaški orkestar
 \n&nbsp\; https://www.gkp.hr/program/event/689-pozego-najdrazi-grade-pozes
 ki-tamburaski-orkestar
DTSTART:20230317T180000Z
DTEND:20230317T193000Z
LOCATION:Gradsko kazalište Požega (Trg Svetog Trojstva\, 34000\, Požega\, C
 roatia)
SUMMARY:Požego\, najdraži grade - Požeški tamburaški orkestar
URL:https://www.gkp.hr/program/event/689-pozego-najdrazi-grade-pozeski-tamb
 uraski-orkestar
END:VEVENT
END:VCALENDAR
