BEGIN:VCALENDAR
VERSION:2.0
PRODID:-//https://www.gkp.hr///NONSGML kigkonsult.se iCalcreator 2.10.15//
METHOD:PUBLISH
BEGIN:VEVENT
UID:20260419T172742UTC-2727nTNC5Z@https://www.gkp.hr/
DTSTAMP:20260419T172742Z
DESCRIPTION:Umjetnička organizacija Plesna radionica Ilijane Lončar nastavl
 ja provođenje projekta organizacije gostovanja profesionalnih plesnih pred
 stava 'Svi na plesnu predstavu' uz potporu Ministarstva kulture i medija R
 epublike Hrvatske. U suradnji s Gradskim kazalištem Požega unutar bogatog 
 programa 2. DANA POŽEŠKOG KAZALIŠTA\, 24. ožujka 2023. (petak) s početkom 
 u 20 sati dolazi nam predstava 'ZAGRLJAJI' u produkciji HNK u Zagrebu i UO
  21:21.\nAUTORSKI TIM PREDSTAVE:autorica: Ksenija Zecsuautori i izvođači: 
 Ema Crnić\, Petra Hrašćanec\, Livio Badurina i Krešimir Mikićglazba: Nenad
  i Alen Sinkauzscena: Igor Rufkostimi: Ana Fucijašsvjetlo: Bojan Gagićprod
 ukcija: 21:21 i Hrvatsko narodno kazalište u ZagrebuO PREDSTAVI:Zagrljaji 
 su koreografsko istraživanje u čijem je fokusu jedna od temeljnih ljudskih
  potreba\; ona za tjelesnom komunikacijom\, empatijom i nježnošću iskaziva
 na kroz tjelesni čin grljenja\, a koja izostaje u okolnostima pandemije s 
 fokusom na mjeru socijalne distance i nemogućnost tjelesne komunikacije. A
 ko zagrljaj definiramo kao formu izražavanja tjelesne intime\, bliskosti\,
  simpatije ili ljubavi između dviju ili više osoba\, postavlja se pitanje 
 kako zabrana dodirivanja i grljenja utječe na promjene svakodnevnog ponaša
 nja? Mijenjamo li mi bez tjelesnog kontakta odnos prema poimanju anatomsko
 g krajolika vlastita tijela? Utječe li zabrana tjelesne bliskosti na promj
 enu kolektivnih rituala slavlja i/ili žalovanja. Tijekom zagrljaja naše ti
 jelo izlučuje hormon oksitocin\, koji inače ima veliku ulogu tijekom porod
 a i dojenja. Poznat i kao hormon ljubavi\, on ima veliku ulogu u stvaranju
  odnosa između pojedinaca\, važan je za povezivanje i osjećaj bliskosti i 
 povezanosti koja se stvara u ljubavnim\, prijateljskim i obiteljskim vezam
 a. Imajući to na umu\, kao i složenost međuljudske tjelesne komunikacije\,
  koreografkinja kroz temu zagrljaja kreira svojevrsne portrete ljudi koje 
 karakteriziraju različiti tipovi intimnosti\, razotkrivajući lepezu naših 
 potreba za bliskošću\, koja nam je gotovo neobjašnjivo oduzeta.\nUlaznice 
 po cijeni od 7 EUR/ 52\,74 kn. (studenti i umirovljenici 5\,5 EUR/ 41\,44 
 kn.) možete rezervirati na www.ilijanaloncar.hr\, na broj kazališta 034/ 2
 73 - 161 te na marketing@gkp.hrRezervirane ulaznice se podižu isključivo s
 at vremena prije izvedbe na blagajni kazališta. https://www.gkp.hr/program
 /event/690-zagrljaji-hnk-u-zagrebu-uo-21-21
DTSTART:20230324T190000Z
DTEND:20230324T200000Z
LOCATION:Gradsko kazalište Požega (Trg Svetog Trojstva\, 34000\, Požega\, C
 roatia)
SUMMARY:Zagrljaji - HNK u Zagrebu / UO 21:21
URL:https://www.gkp.hr/program/event/690-zagrljaji-hnk-u-zagrebu-uo-21-21
END:VEVENT
END:VCALENDAR
