BEGIN:VCALENDAR
VERSION:2.0
PRODID:-//https://www.gkp.hr///NONSGML kigkonsult.se iCalcreator 2.10.15//
METHOD:PUBLISH
BEGIN:VEVENT
UID:20260425T195058UTC-5167FfNTwA@https://www.gkp.hr/
DTSTAMP:20260425T195058Z
DESCRIPTION:UO Plesna radionica Ilijane Lončar planira u povodu 23 obljetni
 ce rada realizirati drugi dio projekta naziva „ ZAJEDNO RAZLIČITI“. Projek
 t obuhvaća preko170 plesača koji će umjetničko edukacijski program vođen o
 d strane samostalne umjetnice\, plesne pedagoginje i koreografkinje Ilijan
 e Lončar provoditi tijekom 5 mjeseci ( veljača - lipanj)\, a javne prezent
 acije kreiranog programa su predviđene u Gradskom kazalištu Požega 10. i 1
 1. lipnja 2023. u 11 i 18 sati uz tehničku podršku Gradskog kazališta Pože
 ga. Raznovrsne teme primjerene uzrastu plesača\, planiramo otplesati premi
 jerno i reprizno u Požegi te gostovati na Šibenskom plesnom festivalu\, Fe
 stivalu malih plesnih formi u Zagrebu \, Susretu plesnih ansambala Hrvatsk
 e\, gostovanjima diljem Hrvatske i inozemstva te fragmentarno s koreografi
 jama gostovati na festivalima\, natjecanjima\, produkcijama i susretima di
 ljem Hrvatske.\n10. lipnja 2023. (subota)11 sati - premijera - mlađe dobne
  skupine ( plesne igraonice 1 - 4 uz duet Tea i Una)18 sati - premijera - 
 starije dobne skupine (od 1. razreda OŠ do srednjoškolki)\n11. lipnja 2023
 . (nedjelja)11 sati - repriza- mlađe dobne skupine( plesne igraonice 1 - 4
  uz duet Tea i Una)18 sati - repriza - starije dobne skupine (od 1. razred
 a OŠ do srednjoškolki)Ulaznice po cijeni od 4 EUR možete rezervirati putem
  obrasca na www.ilijanaloncar.hr\, te ih podići u Dubrovačkoj 65a (plesna 
 dvorana) u terminima:2. lipnja (petak) 18:30 - 21:003. lipnja (subota) 9:0
 0 - 11:00.Autorski tim:Umjetničko - pedagoško vodstvo i odabir glazbe: Ili
 jana LončarRasvjeta: Goran KrmpotićTon i video projekcije: Dario HakFotogr
 afija: Mladen BožičkovićDesign promidžbenog materijala: Antun HiršmanKosti
 mi: Ena Štefek\, NTS ZagrebVideo prijenos uživo: d &amp\; b mediaBackstage
  ekipa: Ljuba Monduković\, Marina Ivanković\, Ena Štefek i plesači stariji
 h grupaGlavni cilj projekta je razvoj plesnog odgoja djece i mladih koja s
 u stručno pedagoški vođena kroz plesnu edukaciju\, senzibiliziranje javnos
 ti na umjetnički plesni izričaj\, stvaranje zahtjevne plesne publike\, pre
 zentacija kvalitetnih koreografija rađenih u skladu s psiho – fizičkim spo
 sobnostima djece i mladih u odnosu na njihov uzrast\, poticanje kreativnos
 ti\, radne discipline i uvažavanja međusobnih različitosti. https://www.gk
 p.hr/program/event/730-zajedno-razliciti-uo-plesna-radionica-ilijane-lonca
 r
DTSTART:20230610T160000Z
DTEND:20230610T170000Z
LOCATION:Gradsko kazalište Požega (Trg Svetog Trojstva\, 34000\, Požega\, C
 roatia)
SUMMARY:Zajedno različiti - UO Plesna radionica Ilijane Lončar
URL:https://www.gkp.hr/program/event/730-zajedno-razliciti-uo-plesna-radion
 ica-ilijane-loncar
END:VEVENT
END:VCALENDAR
