BEGIN:VCALENDAR
VERSION:2.0
PRODID:-//https://www.gkp.hr///NONSGML kigkonsult.se iCalcreator 2.10.15//
METHOD:PUBLISH
BEGIN:VEVENT
UID:20260424T041041UTC-544862lPHp@https://www.gkp.hr/
DTSTAMP:20260424T041041Z
DESCRIPTION:Koncert povodom zatvaranja Kazališnih ljetnih večeri\nIzvode: R
 užica Maurus\, Matej Podgorščak i Alen Kovačević\nVanjska pozornica\nUlaz 
 slobodan\nInformacije: 034/273-161\, marketing@gkp.hr\, FB https://www.gkp
 .hr/program/event/743-koncert-povodom-zatvaranja-kazalisnih-ljetnih-veceri
DTSTART:20230715T193000Z
DTEND:20230715T210000Z
LOCATION:Gradsko kazalište Požega (Trg Svetog Trojstva\, 34000\, Požega\, C
 roatia)
SUMMARY:Koncert povodom zatvaranja Kazališnih ljetnih večeri
URL:https://www.gkp.hr/program/event/743-koncert-povodom-zatvaranja-kazalis
 nih-ljetnih-veceri
END:VEVENT
END:VCALENDAR
