BEGIN:VCALENDAR
VERSION:2.0
PRODID:-//https://www.gkp.hr///NONSGML kigkonsult.se iCalcreator 2.10.15//
METHOD:PUBLISH
BEGIN:VEVENT
UID:20260424T040440UTC-620016zfk7@https://www.gkp.hr/
DTSTAMP:20260424T040440Z
DESCRIPTION:U sklopu ovogodišnjeg programa Požeškog kulturnog ljeta i Kazal
 išnih ljetnih večeri\, uz potporu Kazališne kavane\, dana 08. srpnja 2023.
  ugostiti ćemo Damira Urbana i njegovu četvorku. Ovaj spektakularni koncer
 t i i nezaboravni glabeni doživljaj održat će se na vanjskoj pozornici Gra
 dskog kazališta Požega s početkom u 21 sat\, a ulaz je slobodan.Damir Urba
 n\, legendarni pjevač\, tekstopisac i kantautor\, donosi svoje najveće hit
 ove i najnovije glazbene uratke na pozornicu koja će zatresti srca svih lj
 ubitelja njegove glazbe. Njegovi stihovi diraju u srž duše\, a njegove pje
 sme ostavljaju neizbrisiv trag u pamćenju publike diljem regije. Ovaj tale
 ntirani glazbenik ima jedinstvenu sposobnost da prenese emocije kroz svoj 
 iznimni vokal i autentičan izričaj. Svojim pjesmama\, poput 'Mala truba'\,
  'Moja' i 'Odlučio sam da te volim'\, osvaja srca slušatelja i stvara čaro
 bnu atmosferu koju će publika u Požegi imati priliku doživjeti uživo. Konc
 ert Damira Urbana u Požegi obećava biti glazbeno putovanje ispunjeno energ
 ijom i emocijama. Bilo da ste dugogodišnji obožavatelj ili tek upoznajete 
 njegovu glazbu\, ova večer će vas oduševiti i ostaviti bez daha. Prepustit
 e se nevjerojatnoj glazbi\, zapjevajte s Damir Urbanom i uživajte u nezabo
 ravnom glazbenom doživljaju.\nUlaz slobodan!\nInformacije: 034/273-161\, m
 arketing@gkp.hr\, FB https://www.gkp.hr/program/event/744-urban-4-koncert
DTSTART:20230708T190000Z
DTEND:20230708T210000Z
LOCATION:Gradsko kazalište Požega (Trg Svetog Trojstva\, 34000\, Požega\, C
 roatia)
SUMMARY:Urban&4 - koncert
URL:https://www.gkp.hr/program/event/744-urban-4-koncert
END:VEVENT
END:VCALENDAR
