BEGIN:VCALENDAR
VERSION:2.0
PRODID:-//https://www.gkp.hr///NONSGML kigkonsult.se iCalcreator 2.10.15//
METHOD:PUBLISH
BEGIN:VEVENT
UID:20260420T153120UTC-2587Lr8xMZ@https://www.gkp.hr/
DTSTAMP:20260420T153120Z
DESCRIPTION:Drvo bajki ovoga puta donosi nam poznatu bajku Hansa Christiana
  Andersena - Princeza na zrnu graška.\nJednom davno bilo jedno kraljevstvo
  i u tom kraljevstvu jedan raskošan dvorac\, u tom dvorcu Kralj\, Kraljica
  i njihov sin - Princ. Princu dođe vrijeme da se oženi pa tako krene u svi
 jet potragu za pravom Princezom…\nTekst i režija: Andrija KrištofIgraju: E
 ma Milevoj\, Dora Klarić i Marina Polgar Sabljo\nPredstava se izvodi na va
 njskoj pozornici.\nUlaz slobodan!\nInformacije: 099/273-1616 https://www.g
 kp.hr/program/event/876-drvo-bajki-princeza-na-zrnu-graska
DTSTART:20240627T173000Z
DTEND:20240627T180000Z
LOCATION:Gradsko kazalište Požega (Trg Svetog Trojstva\, 34000\, Požega\, C
 roatia)
SUMMARY:Drvo bajki - Princeza na zrnu graška
URL:https://www.gkp.hr/program/event/876-drvo-bajki-princeza-na-zrnu-graska
END:VEVENT
END:VCALENDAR
