BEGIN:VCALENDAR
VERSION:2.0
PRODID:-//https://www.gkp.hr///NONSGML kigkonsult.se iCalcreator 2.10.15//
METHOD:PUBLISH
BEGIN:VEVENT
UID:20260422T144228UTC-4375v1Ek3V@https://www.gkp.hr/
DTSTAMP:20260422T144228Z
DESCRIPTION:SVEMU DOĐE KRAJ - igrani filmredatelj: Rajko Grlićigrani film\,
  HR/BG/RS/MK\, 2024.\, 89 min.Uzbudljiva kriminalistička drama s elementim
 a trilera.Na Pulskom filmskom festivalu osvojio nagradu&nbsp\;za najbolju 
 scenografiju i sporednog glumca.\nULAZNICE REZERVIRAJTE MAILOM NAcrominute
 @gmail.com ili na broj 098 167 47 55\nULAZ SLOBODAN! https://www.gkp.hr/pr
 ogram/event/909-svemu-dode-kraj-projekcija-filma
DTSTART:20241024T170000Z
DTEND:20241024T182000Z
LOCATION:Gradsko kazalište Požega (Trg Svetog Trojstva\, 34000\, Požega\, C
 roatia)
SUMMARY:Svemu dođe kraj - projekcija filma
URL:https://www.gkp.hr/program/event/909-svemu-dode-kraj-projekcija-filma
END:VEVENT
END:VCALENDAR
