BEGIN:VCALENDAR
VERSION:2.0
PRODID:-//https://www.gkp.hr///NONSGML kigkonsult.se iCalcreator 2.10.15//
METHOD:PUBLISH
BEGIN:VEVENT
UID:20260421T013925UTC-8124p6hCkF@https://www.gkp.hr/
DTSTAMP:20260421T013925Z
DESCRIPTION:O predstavi: U jednom slavonskom gradu sredinom prošlog stoljeć
 a\, u malom pansionu skupilo se šaroliko društvo\, iz samo njima znanih ra
 zloga.Šarmantna vlasnica pansiona\, Ruža\, svojom vedrinom i zavodljivošću
  očara sve goste pansiona. Osim jednog! Iznervirana njegovim stavom prema 
 ženama i njoj samoj\, odluči da će i njega zavesti\, samo kako bi mu dokaz
 ala da nije imun na ženske čari.U urnebesnom zapletu punom predvidljivih i
  nepredvidljivih situacija\, u izvedbi izvrsnih glumaca\, dotičemo se vječ
 ne teme muško-ženskih odnosa\, ženskih izbora\, prava i sloboda\; muške za
 tucanosti\, ali i očaranosti ženama.I sve to uz obilje smijeha. Što ne isk
 ljučuje ukazivanje na probleme svakog društva kada je riječ o ženama i muš
 karcima. Jer dobra komedija zabavlja\, upozorava\, uči\, osuđuje i opravda
 va! I donosi neočekivana rješenja.\nGlume:\nRužica Maurus……….. Gostioničar
 ka RužaMarin Klišmanić……… Kapetan Lujo BonaAntonio Jakupčević……. Gabor Fös
 veny Balatoni GrófGoran Malus…………… Gospodin Antun SvinjarevićLena Medar………
 ……. AnaAnabela Sulić………….. MarijanaIvan Vukelić……………. FranjoMatko Trnačić…
 ……….. Mali\nAdaptacija teksta: Lada Kaštelan i Davor SvedružićRedatelj: Da
 vor SvedružićScenografija i kostimografija: Marita ĆopoScenski pokret i ko
 reografija: Maja HuberAutor glazbe: Tin TonkovićOblikovanje svjetla\, rasv
 jeta: Goran KrmpotićTon majstor: Dario HakRekviziterka: Marija MatijanićMa
 jstor scene\, inspicijent: Renato PokGarderobijerka: Ljiljana RodićDizajn 
 plakata: Denis TreskanicaFoto: Robert Demo\nCijena ulaznice: 10 EUR (stude
 nti i umirovljenici 8 EUR)\n&nbsp\;Klikni i kupi ulaznicu online!\nUlaznic
 e u prodaji na blagajni kazališta od 7. 1. 2026.\nProdaja ulaznica u radno
  vrijeme blagajne kazališta: srijedom i petkom od 10 do 12 sati\, četvrtko
 m od 15 do 17 sati\, te sat vremena prije početka predstave.\nKontakt: 099
  273 1616 https://www.gkp.hr/program/event/950-gostionicarka-gradsko-kazal
 iste-pozega
DTSTART:20260113T190000Z
DTEND:20260113T210000Z
LOCATION:Gradsko kazalište Požega (Trg Svetog Trojstva\, 34000\, Požega\, C
 roatia)
SUMMARY:Gostioničarka - Gradsko kazalište Požega
URL:https://www.gkp.hr/program/event/950-gostionicarka-gradsko-kazaliste-po
 zega
END:VEVENT
END:VCALENDAR
