BEGIN:VCALENDAR
VERSION:2.0
PRODID:-//https://www.gkp.hr///NONSGML kigkonsult.se iCalcreator 2.10.15//
METHOD:PUBLISH
BEGIN:VEVENT
UID:20260421T211044UTC-7719iuDmEb@https://www.gkp.hr/
DTSTAMP:20260421T211044Z
DESCRIPTION:“Predstava “LED” je lijepa\, topla ljudska priča.Priča o malim\
 , ali velikim ljudima\, priča o izgubljenoj sreći i snovima\, o strahovima
 \, prolaznosti\, o nadmoći sudbine\, prirodnih zakona i same prirode. O bl
 agodarnosti i surovosti prirode\, o tome kako priroda može mnogo dati\, al
 i isto tako uzeti u sekundi\, o nemoći čovjeka da na prirodu utječe i mije
 nja kao što ne može ni svoj životni put da promijeni. Svojim univerzalnim 
 porukama “LED” prikazuje osnovne vrline i vrjednosti života\, ljubavi\, is
 krenosti\, pravde\, dostojanstva\, časti\, dobrote\, poštenja\, približava
 m nam sudbinu momka koji se odrekao svojih snova zarad svoje porodice\, us
 pomene na preminulog oca i imanja\, ali nam i prikazuje kako i zašto selo 
 polako izumire i približava nam muke ljudi sa sela.\nSvako od nas se može 
 povezati s nekim likom ili nekom pričom iz ove monodrama.\nIzvodi: Aleksan
 dar Kojić\nUlaz slobodan. Nije potrebna rezervacija. https://www.gkp.hr/pr
 ogram/event/959-led-aleksandar-kojic
DTSTART:20250402T180000Z
DTEND:20250402T190000Z
LOCATION:Gradsko kazalište Požega (Trg Svetog Trojstva\, 34000\, Požega\, C
 roatia)
SUMMARY:Led - Aleksandar Kojić
URL:https://www.gkp.hr/program/event/959-led-aleksandar-kojic
END:VEVENT
END:VCALENDAR
