BEGIN:VCALENDAR
VERSION:2.0
PRODID:-//https://www.gkp.hr///NONSGML kigkonsult.se iCalcreator 2.10.15//
METHOD:PUBLISH
BEGIN:VEVENT
UID:20260421T001020UTC-5920V9bFcN@https://www.gkp.hr/
DTSTAMP:20260421T001020Z
DESCRIPTION:Dupla Doza - Stand up comedy show by Marko Dejanović i Goran Vi
 nčić\nDolaze energični Slavonac Goran Vinčić i brutalno iskreni Bosanac Ma
 rko Dejanović sa svojim jedinstvenim showom #DuplaDoza\, najopuštenijim i 
 'najluđim' stand up showom u Hrvatskoj.Dupla Doza\, stand up comedy show b
 y Goran Vinčić i Marko Dejanović je za Hrvatsku jedinstveni show\, show pu
 n spontanosti\, dinamike i improvizacija. Oba komičara svo vrijeme su na p
 ozornici\, a nemaju pripremljeni “scenarij”\, nego puštaju da ih međusobni
  razgovor i razgovor s publikom vodi u tome što će pričati. To na kraju re
 zultira potpuno opuštenom atmosferom u kojoj je svaka izvedba jedinstvena.
 O KOMIČARIMA: #Vinča i Marko su dva dosta različita lika. Goran je mlad\, 
 Dejanović nije\, Vinčić se voli smješkat\, Marko zvani #NapušenaPanda zna 
 ponekad samo buljiti u ljude i tko zna što mu prolazi glavom...Jedan drugo
 me vrlo lako dignu živac\, vole se podjebavat i to ne onako prijateljski\,
  ne\, ne\, oni se za stvarno pokače\, iako su prijatelji i pomoći će si me
 đusobno ako zatreba. Obojica su očevi i muževi\, obojica brzi na jeziku. V
 inča je energičan na pozornici\, Marko se kreće samo koliko mora.\nCijena 
 ulaznice: 12 EUR&nbsp\;\nProdaja ulaznica u radno vrijeme blagajne kazališ
 ta: srijedom i petkom od 10 do 12 sati\, četvrtkom od 15 do 17 sati\, te s
 at vremena prije početka predstave.\nKontakt: 099 273 1616 https://www.gkp
 .hr/program/event/1048-dupla-doza-stand-up-comedy-show
DTSTART:20260128T190000Z
DTEND:20260128T203000Z
LOCATION:Gradsko kazalište Požega (Trg Svetog Trojstva\, 34000\, Požega\, C
 roatia)
SUMMARY:Dupla Doza - Stand up comedy show
URL:https://www.gkp.hr/program/event/1048-dupla-doza-stand-up-comedy-show
END:VEVENT
BEGIN:VEVENT
UID:20260421T001020UTC-5923g0PV6c@https://www.gkp.hr/
DTSTAMP:20260421T001020Z
DESCRIPTION:PREMIJERA - Velika lektirna zavrzlama - Mala škola kazališta u 
 Pleternici\nKnjiškim junacima je dosta! Učenici sve više izbjegavaju lekti
 ru i čitanje. Ovoga puta knjiški junaci su odlučili podnijeti prijavu te t
 užiti učenike koji ne čitaju i to Velikom lektirnom sudu. Prvi je to sluča
 j ikada na ovome neobičnom Sudu\, a kako je završio otkrit će polaznici Ma
 le škole kazališta Pleternica u svojoj novoj predstavi Velika lektirna zav
 rzlama.\nTekst i režija: Renata Matičević\, voditeljica Male škole kazališ
 ta PleternicaTehnička podrška: Alen Šajer\, IC Terra Panonica\nUloge: Mara
  – Petra Uremović Sara – Nikol JozićTara – Lana Šarić Zara – Klara Staniši
 ć Policajac – Luka Radičević Tužiteljica – Karla Šarić Odvjetnik – Jakov R
 aič Sudac – David Đuro Đurić Crvenkapica – Ema Katavić\, Ana Marinović\, P
 aola Stanišić Maca Papučarica – Dolores Kovačević\, Ema Zirdum\, Lucija Ur
 emović Šegrt Hlapić – Juraj Šimunović\, Fabijan Bello\, Jakov Vidović Pipi
  Duga Čarapa – Petra Vračić\, Tena Vidović\, Klara Galović\nGlumci: Fabija
 n Bello\, David Đuro Đurić\, Klara Galović\, Nikol Jozić\, Ema Katavić\, D
 olores Kovačević\, Ana Marinović\, Luka Radičević\, Jakov Raič\, Klara Sta
 nišić\, Paola Stanišić\, Karla Šarić\, Lana Šarić\, Juraj Šimunović\, Luci
 ja Uremović\, Petra Uremović\, Jakov Vidović\, Tena Vidović\, Petra Vračić
 \, Ema Zirdum\nUlaz slobodan! https://www.gkp.hr/program/event/1052-velika
 -lektirna-zavrzlama-mala-skola-kazalista-pleternica
DTSTART:20260129T183000Z
DTEND:20260129T191500Z
LOCATION:Interpretacijski centar Terra Panonica  (Trg Zrinskog i Frankopana
  4\, Pleternica)
SUMMARY:Velika lektirna zavrzlama - Mala škola kazališta Pleternica
URL:https://www.gkp.hr/program/event/1052-velika-lektirna-zavrzlama-mala-sk
 ola-kazalista-pleternica
END:VEVENT
END:VCALENDAR
