BEGIN:VCALENDAR
VERSION:2.0
PRODID:-//https://www.gkp.hr///NONSGML kigkonsult.se iCalcreator 2.10.15//
METHOD:PUBLISH
BEGIN:VEVENT
UID:20260420T195541UTC-69043GMJUK@https://www.gkp.hr/
DTSTAMP:20260420T195541Z
DESCRIPTION:Kazalište Moruzgva donosi novu predstavu Parazitska posla – bri
 tku komediju o tome što se stvarno događa kad se obitelj opet nađe pod ist
 im krovom. Povratak starije kćeri iz Njemačke trebao je biti kratak posjet
 \, ali se dnevni boravak ubrzo pretvara u ring u kojem se izmjenjuju optuž
 be\, pasivna agresija\, sendviči\, kriptovalute i jedno vrlo upitno ljubav
 no partnerstvo.\nMajka Ankica balansira između dviju kćeri koje se ne mogu
  dogovoriti ni oko jezika na kojem se svađaju\, a stvari dodatno zakomplic
 ira šarmantni gost koji možda nije ono za što se predstavlja.Parazitska po
 sla su komad pun duhovitih dijaloga\, prepoznatljivih situacija i likova k
 oji će vam istovremeno biti i smiješni i strašno poznati. U ulogama brilji
 raju Nina Violić\, Sanja Milardović\, Zdenka Šustić i Karlo Bernik. Ovo je
  predstava koja će vas nasmijati\, ali i natjerati da se sjetite vlastite 
 dnevne sobe.\nTekst:Filip Jurjević i Vajna Jovanović\nRežija:Vanja Jovanov
 ić\nIgraju:Nina ViolićSanja MilardovićZdenka ŠustićKarlo Bernik\nCijena ul
 aznice: 10 EUR (studenti i umirovljenici 8 EUR)\n&nbsp\;Klikni i kupi ulaz
 nicu online!\nProdaja ulaznica u radno vrijeme blagajne kazališta: srijedo
 m i petkom od 10 do 12 sati\, četvrtkom od 15 do 17 sati\, te sat vremena 
 prije početka predstave.\nKontakt: 099 273 1616\n&nbsp\; https://www.gkp.h
 r/program/event/1055-parazitska-posla-kazaliste-moruzgva
DTSTART:20260219T190000Z
DTEND:20260219T202000Z
LOCATION:Gradsko kazalište Požega (Trg Svetog Trojstva\, 34000\, Požega\, C
 roatia)
SUMMARY:Parazitska posla - Kazalište Moruzgva
URL:https://www.gkp.hr/program/event/1055-parazitska-posla-kazaliste-moruzg
 va
END:VEVENT
BEGIN:VEVENT
UID:20260420T195541UTC-6908BWVfnW@https://www.gkp.hr/
DTSTAMP:20260420T195541Z
DESCRIPTION:Predstava prikazuje što bi se moglo dogoditi u košnici kada bi 
 sve radilice zbog nekog razloga zaspale\, na kome bi košnica ostala i tko 
 tu treba “spasiti stvar”. Riječ je o interaktivnoj komediji za djecu koja 
 govori o važnosti meda kao prehrambenog proizvoda za sve ljude.\nEdukativn
 u\, zabavnu i raspjevanu komediju o pčelama\, koja uvodi najmlađu publiku 
 u čarobni svijet pčela te educira djecu o njihovoj važnosti za prirodu koj
 a nas okružuje\, potpisuje redatelj Goran Smoljanović\, ravnatelj Teatra t
 o Go.\nUloge:\nTRUT BRZI – Goran Smoljanović\nTRUT MEDENI – Vedran Dakić /
  Ivan Pokupić\nRADILICA PROPOLICA – Matea Marušić / Gabriela Redžić\nCijen
 a ulaznice: 5 EUR\nKlikni i kupi ulaznicu online!\nProdaja ulaznica u radn
 o vrijeme blagajne kazališta: srijedom i petkom od 10 do 12 sati\, četvrtk
 om od 15 do 17 sati\, te sat vremena prije početka predstave.\nKontakt: 09
 9 273 1616 https://www.gkp.hr/program/event/1056-pcelice-gk-joza-ivakic-vi
 nkovci
DTSTART:20260221T100000Z
DTEND:20260221T104500Z
LOCATION:Gradsko kazalište Požega (Trg Svetog Trojstva\, 34000\, Požega\, C
 roatia)
SUMMARY:Pčelice - GK Joza Ivakić Vinkovci
URL:https://www.gkp.hr/program/event/1056-pcelice-gk-joza-ivakic-vinkovci
END:VEVENT
BEGIN:VEVENT
UID:20260420T195541UTC-6911ZWLi89@https://www.gkp.hr/
DTSTAMP:20260420T195541Z
DESCRIPTION:-predstava igra organizirano za umirovljenike Grada Požege\nKom
 edija “Kokoš” Nikolaja Koljade satkana je od pet fantastičnih karaktera ko
 ji nam u međusobnim duhovitim i strastvenim obračunima donose sav sjaj i b
 ijedu života - onog bračnog\, kazališnog\, ljubavnog i izvanbračnog\, tužn
 og i smiješnog. Događa se u kazališnom stanu\, sudionici su tri glumice te
  jedan poluglumac i jedan propali redatelj\, a njihove isprepletene odnose
  lako čitamo u univerzalnom ključu\; te ih svatko od nas može prepoznati u
  vlastitom životu. Možda samo zbog toga što su svi oni kazališni ljudi\, r
 anjivi\, frustrirani\, opaki\, duhoviti\, zajedljivi\, komični\, skloni dr
 amatiziranju\, redaju pred našim očima prizore protkane salvom emocija\, s
 trastvenim svađama i mirenjima\, navikli na to da ih život ne mazi previše
 \, pa su i oni brutalno iskreni jedni prema drugima i prema svemu onom što
  čini njihov život. No svatko od njih proživljavajući katarzu i veliku tra
 nsformaciju postaje pred nama prava slika i mjera ljudskosti. Na ovoj blat
 noj kugli u našim kratkim životima nije nam dano puno\, imamo samo vlastit
 o iskustvo susreta s ljudima i samo o našoj spremnosti da čujemo drugoga i
  o našoj toplini i susretljivosti ovisi koliko ćemo vrijedan život živjeti
  i koliko će u njemu biti smisla. To je ono što nam Koljadini likovi poruč
 uju i ako je kazalište ogledalo svijeta onda ćemo se u njima ogledati\, a 
 možda i prepoznati\, svatko na svoj način.Boris Svrtan\nautor teksta: Niko
 laj Koljadaprevoditelj: Vladimir Gerićrežija i adaptacija teksta: Boris Sv
 rtanglume: Ines Bojanić\, Anabela Sulić\, Ivica Pucar\, Antonija Stanišić 
 Šperanda\, Ivan Vukelić\nglasovi susjeda: Mihael Kovačević\, Kornelija Mar
 ks\, Karla Malčić\, Kazimir Semunović\, Boris Svrtan\nkostimografija: Mari
 ta Ćoposcenografija: Frane Celićizbor glazbe: Boris Svrtanoblikovanje svje
 tla\, rasvjeta: Goran Krmpotićton majstor: Dario Hakrekviziterka: Marija M
 atijanićmajstor scene\, inspicijent: Renato Pokgarderobijerka: Ljiljana Ro
 dićdizajn plakata: Denis Treskanicafotografije: Robert Demoproducentica: V
 alentina Neferovićprodukcija: Gradsko kazalište Požega\, listopad 2024.\nI
 nformacije: 099 273 1616\n&nbsp\; https://www.gkp.hr/program/event/1057-ko
 kos-gradsko-kazaliste-pozega
DTSTART:20260217T180000Z
DTEND:20260217T191000Z
LOCATION:Gradsko kazalište Požega (Trg Svetog Trojstva\, 34000\, Požega\, C
 roatia)
SUMMARY:Kokoš - Gradsko kazalište Požega 
URL:https://www.gkp.hr/program/event/1057-kokos-gradsko-kazaliste-pozega
END:VEVENT
END:VCALENDAR
