BEGIN:VCALENDAR
VERSION:2.0
PRODID:-//https://www.gkp.hr///NONSGML kigkonsult.se iCalcreator 2.10.15//
METHOD:PUBLISH
BEGIN:VEVENT
UID:20260420T182847UTC-3608GojMkG@https://www.gkp.hr/
DTSTAMP:20260420T182847Z
DESCRIPTION:Bertolt Brecht: PIR MALOGRAĐANA\nOva jednočinka odvija se u kuć
 i svatova\, a svi gosti\, likovi koji nose imena svojih funkcija (Nevjesta
 \, Mladoženja\, Mladoženjina majka…)\, upravo su se okupili oko svečane ve
 čere. Oko stola se vodi nekoliko nepovezanih razgovora\, koji se povremeno
  koncentriraju oko zajedničke točke\, kao npr. oko činjenice da je Mladože
 nja sam napravio sav namještaj koji se nalazi u kući\, što mu Nevjestin ot
 ac zamjera jer im je on htio darovati obiteljski namještaj\, krevete u koj
 ima su umirale prošle generacije. Stalno se otvaraju nove boce vina\, pleš
 e se i pjeva\, a kako vrijeme odmiče\, sve se više pokazuje da brak nikome
  u prostoriji bap ne izgleda kao dobro rješenje\, i to posebno u danoj kom
 binaciji. Kako se rasipa razgovor i odnosi postaju napetiji\, počinje popu
 štati i Mladoženjin namještaj. Novopečeni supružnici se svađaju dok se kuć
 a oko njih raspada\, ulijevajući pritom u sebe znatne količine alkohola\, 
 no uspiju otjerati sve goste i svađu pretvoriti u ljubavni zanos…\nglume: 
 Vlasta Golub\, Mladen Kovačić\, Goran Koši\, Snježana Lančić\, Sara Lustig
 \, Iva Slavić\, Draško Zidar\, Silvijo Švast\nredateljica: Franka Perković
 suradnik za scenski pokret: Pravdan Devlahovićscenograf: Krešimir Tomackos
 timografkinja: Marita Čopoautor glazbe: Stanko Kovačićoblikovatelj svjetla
 : Domagoj Garajasistent redateljice: Toma Serdarić\nCijena ulaznice: 10 EU
 R (studenti i umirovljenici 8 EUR)\nKlikni i kupi ulaznicu online!\nProdaj
 a ulaznica u radno vrijeme blagajne kazališta: srijedom i petkom od 10 do 
 12 sati\, četvrtkom od 15 do 17 sati\, te sat vremena prije početka predst
 ave.\nKontakt: 099 273 1616 https://www.gkp.hr/program/event/1067-pir-malo
 gradana-kazaliste-virovitica
DTSTART:20260326T190000Z
DTEND:20260326T203000Z
LOCATION:Gradsko kazalište Požega (Trg Svetog Trojstva\, 34000\, Požega\, C
 roatia)
SUMMARY:Pir malograđana - Kazalište Virovitica
URL:https://www.gkp.hr/program/event/1067-pir-malogradana-kazaliste-virovit
 ica
END:VEVENT
BEGIN:VEVENT
UID:20260420T182847UTC-36110ahdUC@https://www.gkp.hr/
DTSTAMP:20260420T182847Z
DESCRIPTION:28. ožujka u 19.00 sati - 'Oj Požego u tebi je lipo'- Gradu na 
 dar / Koncert Folklornog ansambla Požega\n-ulaz besplatan https://www.gkp.
 hr/program/event/1070-oj-pozego-u-tebi-je-lipo-folklorni-ansambl-pozega
DTSTART:20260328T180000Z
DTEND:20260328T193000Z
LOCATION:Gradsko kazalište Požega (Trg Svetog Trojstva\, 34000\, Požega\, C
 roatia)
SUMMARY:'Oj Požego u tebi je lipo' -  Folklorni ansambl Požega 
URL:https://www.gkp.hr/program/event/1070-oj-pozego-u-tebi-je-lipo-folklorn
 i-ansambl-pozega
END:VEVENT
BEGIN:VEVENT
UID:20260420T182847UTC-3612xbTgBp@https://www.gkp.hr/
DTSTAMP:20260420T182847Z
DESCRIPTION:26. ožujka u 10.00 h i 12.00 h&nbsp\;\nO Grgi Čvarku&nbsp\; - 3
 1. Lutkarsko proljeće\nJednog od najpoznatijeg dječaka\, Grgu Čvarka mladi
  i stari\, djeca i odrasli upoznali su davne 1967. godine kada je objavlje
 na zbirka pjesama koja nosi baš njegovo ime. Autor Ratko Zvrko opisao ga j
 e kao nestašnog\, zaigranog\, naopakog ali u isto vrijeme dobrog i brižnog
  dječaka. Pedeset i sedam godina nakon prvog pojavljivanja Grga Čvarak je 
 i dalje isti kao vječna inspiracija djeci i odraslima.“Čas dobar\, čas zao
 \, čas bi svakom srce dao\, čas bi se sa vukom klao\, mršav\, tanak k’o su
 harak - Grga Čvarak.Kako Grga provodi svoje dane? Može li Grga staviti mač
 ki soli na rep? Što je Grga dobio iz testa iz matematike? Što je čika Mika
  već sto puta rekao Grgi? Koja je Grgina omiljena pita? Odgovore na ta pit
 anja\, ali i još ponešto pogledajte i poslušajte u predstavi “O Grgi Čvark
 u” prema dramatizaciji Željke Siser\, a u režiji glumca i lutkara Andrije 
 Krištofa.\nAUTORSKI TIM:Autorica teksta: Željka SiserRedatelj: Andrija Kri
 štofGlume: Anabela Sulić i Matko TrnačićOblikovanje tona/ton: Dario HakObl
 ikovanje svjetla/rasvjeta: Goran KrmpotićScenografija: Renato Pok\, Marija
  MatijanićKostimografija: Ljiljana RodićDizajn plakata: Marija MatijanićPr
 odukcija: Gradsko kazalište Požega\, rujan 2024. https://www.gkp.hr/progra
 m/event/1074-o-grgi-cvarku-gostovanje-u-vinkovcima-na-31-lutkarskom-prolje
 cu
DTSTART:20260326T090000Z
DTEND:20260326T094500Z
LOCATION:Gradsko kazalište Joza Ivakić - Vinkovci (Ulica Hrvatskih žrtava 2
  \, Vinkovci)
SUMMARY:O Grgi Čvarku - gostovanje u Vinkovcima na 31. Lutkarskom proljeću
URL:https://www.gkp.hr/program/event/1074-o-grgi-cvarku-gostovanje-u-vinkov
 cima-na-31-lutkarskom-proljecu
END:VEVENT
BEGIN:VEVENT
UID:20260420T182847UTC-3614EEK4SO@https://www.gkp.hr/
DTSTAMP:20260420T182847Z
DESCRIPTION:27. ožujka u 10.00 h\nO Grgi Čvarku - 31. Lutkarsko proljeće / 
 Dom kulture Otok\nJednog od najpoznatijeg dječaka\, Grgu Čvarka mladi i st
 ari\, djeca i odrasli upoznali su davne 1967. godine kada je objavljena zb
 irka pjesama koja nosi baš njegovo ime. Autor Ratko Zvrko opisao ga je kao
  nestašnog\, zaigranog\, naopakog ali u isto vrijeme dobrog i brižnog dječ
 aka. Pedeset i sedam godina nakon prvog pojavljivanja Grga Čvarak je i dal
 je isti kao vječna inspiracija djeci i odraslima.“Čas dobar\, čas zao\, ča
 s bi svakom srce dao\, čas bi se sa vukom klao\, mršav\, tanak k’o suharak
  - Grga Čvarak.Kako Grga provodi svoje dane? Može li Grga staviti mački so
 li na rep? Što je Grga dobio iz testa iz matematike? Što je čika Mika već 
 sto puta rekao Grgi? Koja je Grgina omiljena pita? Odgovore na ta pitanja\
 , ali i još ponešto pogledajte i poslušajte u predstavi “O Grgi Čvarku” pr
 ema dramatizaciji Željke Siser\, a u režiji glumca i lutkara Andrije Krišt
 ofa.\nAUTORSKI TIM:Autorica teksta: Željka SiserRedatelj: Andrija KrištofG
 lume: Anabela Sulić i Matko TrnačićOblikovanje tona/ton: Dario HakOblikova
 nje svjetla/rasvjeta: Goran KrmpotićScenografija: Renato Pok\, Marija Mati
 janićKostimografija: Ljiljana RodićDizajn plakata: Marija MatijanićProdukc
 ija: Gradsko kazalište Požega\, rujan 2024. https://www.gkp.hr/program/eve
 nt/1075-o-grgi-cvarku-gostovanje-u-otoku-na-31-lutkarskom-proljecu
DTSTART:20260327T090000Z
DTEND:20260327T094500Z
LOCATION:Otok (Dom kulture Otok)
SUMMARY:O Grgi Čvarku - gostovanje u Otoku na 31. Lutkarskom proljeću
URL:https://www.gkp.hr/program/event/1075-o-grgi-cvarku-gostovanje-u-otoku-
 na-31-lutkarskom-proljecu
END:VEVENT
END:VCALENDAR
