BEGIN:VCALENDAR
VERSION:2.0
PRODID:-//https://www.gkp.hr///NONSGML kigkonsult.se iCalcreator 2.10.15//
METHOD:PUBLISH
BEGIN:VEVENT
UID:20260420T104835UTC-3533CzM2BH@https://www.gkp.hr/
DTSTAMP:20260420T104835Z
DESCRIPTION:10. travnja u 20.00 h\nGostioničarka gostuje u HNK u Šibeniku\n
 O predstavi: U jednom slavonskom gradu sredinom prošlog stoljeća\, u malom
  pansionu skupilo se šaroliko društvo\, iz samo njima znanih razloga.Šarma
 ntna vlasnica pansiona\, Ruža\, svojom vedrinom i zavodljivošću očara sve 
 goste pansiona. Osim jednog! Iznervirana njegovim stavom prema ženama i nj
 oj samoj\, odluči da će i njega zavesti\, samo kako bi mu dokazala da nije
  imun na ženske čari.U urnebesnom zapletu punom predvidljivih i nepredvidl
 jivih situacija\, u izvedbi izvrsnih glumaca\, dotičemo se vječne teme muš
 ko-ženskih odnosa\, ženskih izbora\, prava i sloboda\; muške zatucanosti\,
  ali i očaranosti ženama.I sve to uz obilje smijeha. Što ne isključuje uka
 zivanje na probleme svakog društva kada je riječ o ženama i muškarcima. Je
 r dobra komedija zabavlja\, upozorava\, uči\, osuđuje i opravdava! I donos
 i neočekivana rješenja.\nGlume:\nRužica Maurus……….. Gostioničarka RužaMari
 n Klišmanić……… Kapetan Lujo BonaAntonio Jakupčević……. Gabor Fösveny Balato
 ni GrófGoran Malus…………… Gospodin Antun SvinjarevićLena Medar……………. AnaAnab
 ela Sulić………….. MarijanaIvan Vukelić……………. FranjoMatko Trnačić………….. Mali
 \nAdaptacija teksta: Lada Kaštelan i Davor SvedružićRedatelj: Davor Svedru
 žićScenografija i kostimografija: Marita ĆopoScenski pokret i koreografija
 : Maja HuberAutor glazbe: Tin TonkovićOblikovanje svjetla\, rasvjeta: Gora
 n KrmpotićTon majstor: Dario HakRekviziterka: Marija MatijanićMajstor scen
 e\, inspicijent: Renato PokGarderobijerka: Ljiljana RodićDizajn plakata: D
 enis TreskanicaFoto: Robert Demo\nProdukcija: Gradsko kazalište Požega\, l
 istopad 2023. https://www.gkp.hr/program/event/1077-gostionicarka-gostovan
 je-u-sibeniku
DTSTART:20260410T180000Z
DTEND:20260410T200000Z
LOCATION:HNK u Šibeniku ()
SUMMARY:Gostioničarka - gostovanje u Šibeniku
URL:https://www.gkp.hr/program/event/1077-gostionicarka-gostovanje-u-sibeni
 ku
END:VEVENT
END:VCALENDAR
