BEGIN:VCALENDAR
VERSION:2.0
PRODID:-//https://www.gkp.hr///NONSGML kigkonsult.se iCalcreator 2.10.15//
METHOD:PUBLISH
BEGIN:VEVENT
UID:20260421T041837UTC-2950tPRbkf@https://www.gkp.hr/
DTSTAMP:20260421T041837Z
DESCRIPTION:27. travnja u 20.00\nKokoš gostuje u Novoj Gradiški\nKomedija “
 Kokoš” Nikolaja Koljade satkana je od pet fantastičnih karaktera koji nam 
 u međusobnim duhovitim i strastvenim obračunima donose sav sjaj i bijedu ž
 ivota - onog bračnog\, kazališnog\, ljubavnog i izvanbračnog\, tužnog i sm
 iješnog. Događa se u kazališnom stanu\, sudionici su tri glumice te jedan 
 poluglumac i jedan propali redatelj\, a njihove isprepletene odnose lako č
 itamo u univerzalnom ključu\; te ih svatko od nas može prepoznati u vlasti
 tom životu. Možda samo zbog toga što su svi oni kazališni ljudi\, ranjivi\
 , frustrirani\, opaki\, duhoviti\, zajedljivi\, komični\, skloni dramatizi
 ranju\, redaju pred našim očima prizore protkane salvom emocija\, strastve
 nim svađama i mirenjima\, navikli na to da ih život ne mazi previše\, pa s
 u i oni brutalno iskreni jedni prema drugima i prema svemu onom što čini n
 jihov život. No svatko od njih proživljavajući katarzu i veliku transforma
 ciju postaje pred nama prava slika i mjera ljudskosti. Na ovoj blatnoj kug
 li u našim kratkim životima nije nam dano puno\, imamo samo vlastito iskus
 tvo susreta s ljudima i samo o našoj spremnosti da čujemo drugoga i o našo
 j toplini i susretljivosti ovisi koliko ćemo vrijedan život živjeti i koli
 ko će u njemu biti smisla. To je ono što nam Koljadini likovi poručuju i a
 ko je kazalište ogledalo svijeta onda ćemo se u njima ogledati\, a možda i
  prepoznati\, svatko na svoj način.Boris Svrtan\nautor teksta: Nikolaj Kol
 jadaprevoditelj: Vladimir Gerićrežija i adaptacija teksta: Boris Svrtanglu
 me: Ines Bojanić\, Anabela Sulić\, Ivica Pucar\, Antonija Stanišić Šperand
 a\, Ivan Vukelić\nglasovi susjeda: Mihael Kovačević\, Kornelija Marks\, Ka
 rla Malčić\, Kazimir Semunović\, Boris Svrtan\nkostimografija: Marita Ćopo
 scenografija: Frane Celićizbor glazbe: Boris Svrtanoblikovanje svjetla\, r
 asvjeta: Goran Krmpotićton majstor: Dario Hakrekviziterka: Marija Matijani
 ćmajstor scene\, inspicijent: Renato Pokgarderobijerka: Ljiljana Rodićdiza
 jn plakata: Denis Treskanicafotografije: Robert Demoproducentica: Valentin
 a Neferovićprodukcija: Gradsko kazalište Požega\, listopad 2024.\nProgram 
 je ostvaren uz potporu Ministarstva kulture i medija RH. https://www.gkp.h
 r/program/event/1078-kokos-gostovanje-u-novoj-gradiski
DTSTART:20260427T180000Z
DTEND:20260427T191000Z
LOCATION:Dom kulture Nova Gradiška (Ul. Alojzija Stepinca\, Nova Gradiška)
SUMMARY:Kokoš - gostovanje u Novoj Gradiški
URL:https://www.gkp.hr/program/event/1078-kokos-gostovanje-u-novoj-gradiski
END:VEVENT
BEGIN:VEVENT
UID:20260421T041837UTC-2953harS3V@https://www.gkp.hr/
DTSTAMP:20260421T041837Z
DESCRIPTION:UO Plesna radionica Ilijane Lončar i ove godine organizira pros
 lavu Svjetskog dana plesa uz gostovanje profesionalne plesne predstave 'PE
 TRICORE' u izvedbi renomiranog Zagrebačkog plesnog ansambla. Izvedba u Pož
 egi pruža jedinstvenu priliku za doživljaj suvremenog plesa na svjetskoj r
 azini.Pozivamo sve ljubitelje plesne umjetnosti u Gradsko kazalište Požega
  29. travnja 2026. (srijeda) s početkom u 20 sati.Ulaznice po cijeni od 10
  EUR možete rezervirati na www.ilijanaloncar.hr te ih kupiti na blagajni k
 azališta 30 minuta vremena prije izvedbe.Predstava „Petricore“ Zagrebačkog
  plesnog ansambla nastala je u suradnji s istaknutim koreografima Igorom U
 rzelaijem Hernandom i Moreno Solinasom\, umjetničkim dvojcem poznatim pod 
 imenom Igor x Moreno. ZPA ovim projektom\, ističu\, „nastavlja praksu pove
 zivanja s relevantnim autorima međunarodne plesne scene i otvaranja prosto
 ra za nove umjetničke dijaloge“.Radovi Igora x Morena su\, naime\, posljed
 njeg desetljeća zapaženi na europskoj sceni i gostovali su diljem svijeta\
 , uključujući i riječki HKD na Sušaku. Dobitnici su Rudolf Laban Award\, n
 ominirani za National Dance Awards i Total Theatre Awards\, a tri su puta 
 uvršteni u izbor mreže Aerowaves. Pridruženi su umjetnici londonskog The P
 lacea i dio umjetničkog vodstva organizacije S’ALA na Sardiniji\, gdje i s
 tvaraju nove radove.U središtu rada Petricore sa Zagrebačkim plesnim ansam
 blom je zajedništvo. Pet izvođačica – Dora Brkarić\, Lara Kapeloto\, Iva K
 atarinčić\, Silvija Musić i Linda Tarnovski – kreću se kao jedno\, stoji u
  najavi\, oblikujući kolektivnu sliku u kojoj se brišu granice individualn
 osti. „Pokreti koji se čine jednostavnima otkrivaju se kao čini izdržljivo
 sti\, podsjetnici na granice i mogućnosti tijela. U kolektivu izbija parad
 oks – zajedništvo koje nikada ne briše jedinstvenost\, i jedinstvenost koj
 a postaje vidljiva tek kroz zajedništvo.“Ono što 'Petricore' čini posebno 
 dojmljivim jest vješto balansiranje paradoksa: prikazuje zajedništvo koje 
 nikada u potpunosti ne guši jedinstvenost pojedinca\, već je\, naprotiv\, 
 čini vidljivijom upravo kroz interakciju s kolektivom. Ovaj rad poziva gle
 datelje na introspekciju i prepoznavanje vlastitih odraza u drugima\, poti
 čući empatiju kao ključni element ljudskog povezivanja. Poput spomenutog m
 irisa kiše\, predstava priziva osjećaj pročišćenja i obnove koji se rađa k
 ada se tijela susretnu i kada čovječanstvo ponovno otkrije svoju suštinu k
 roz uzajamno razumijevanje.• KONCEPT I REŽIJA:o Moreno Solinas\, Igor Urze
 lai Hernando• KOREOGRAFIJA:o Igor x Moreno u suradnji s izvođačicama• IZVO
 ĐAČICE:o Lara Kapeloto\, Iva Katarinčić\, Silvija Musić\, Linda Tarnovski\
 , Dora Brkarić (alternacije Dora Sarikaya / Katarina Barešić)• GLAZBA:o As
 eret• OBLIKOVANJE SVJETLA:o Anton Modrušan• ASISTENT KOSTIMOGRAFIJE I SCEN
 OGRAFIJE:o Ana Paulić• ŠMINKA:o Marija Bingula• VODITELJICE PROBE:o Marghe
 rita Elliot\, Petra Valentić• FOTOGRAFIJE:o Andi Bančić\, Jelena Janković•
  GRAFIČKO OBLIKOVANJE:o Puder (Ana Rako\, Goran Raukar)• SNIMANJE I MONTAŽ
 A:o Lovro Mrđen\, Vid Begić• UMJETNIČKO VODSTVO ZPA:o Petra Glad Mažar\, P
 etra Valentić• ODNOSI S JAVNOŠĆU:o Sara Ivanović• PRODUKCIJA:o Zagrebački 
 plesni ansambl• PARTNERI:o S’ALA\, Zagrebački plesni centar\, Mediteranski
  plesni centar• S’ALA PRODUKCIJSKI TIM:o Davide Pisano\, Anna Paola Della 
 Chiesa• ZPC PRODUKCIJSKI TIM:o Alexandra Madsen\, Josipa Bubaš\, Jure Matu
 lić• UZ POTPORU:o Ured za kulturu Grada Zagreba\, Ministarstvo kulture i m
 edija RH\, Zaklada Kultura nova• POSEBNO ZAHVALJUJEMO:o Anika Cetina\, Kat
 arina Barešić\, Valentina Miloš\, Vilim Poljanec\, Luciana Fracassi\, Leti
 zia Valzania\, Amedeo Inglese\, Saioa Urzelai Hernando\, Tonito Solinas\, 
 Francesco Perini\, Marisa Lim\, Vito Čakalo\, Paula Škaro https://www.gkp.
 hr/program/event/1085-petricore-zagrebacki-plesni-ansambl
DTSTART:20260429T180000Z
DTEND:20260429T190000Z
LOCATION:Gradsko kazalište Požega (Trg Svetog Trojstva\, 34000\, Požega\, C
 roatia)
SUMMARY:Petricore - Zagrebački plesni ansambl
URL:https://www.gkp.hr/program/event/1085-petricore-zagrebacki-plesni-ansam
 bl
END:VEVENT
END:VCALENDAR
