BEGIN:VCALENDAR
VERSION:2.0
PRODID:-//https://www.gkp.hr///NONSGML kigkonsult.se iCalcreator 2.10.15//
METHOD:PUBLISH
BEGIN:VEVENT
UID:20260421T080133UTC-66512dXvwV@https://www.gkp.hr/
DTSTAMP:20260421T080133Z
DESCRIPTION:Treća je dječja - Sunčasta\nTekst: ZORAN VAKULARežija\, dramati
 zacija: IGOR BAKSAIgraju: IGOR BAKSA\, MIRNA OSTROŠIĆ / TENA PATAKYGlazba:
  IGOR BAKSATrajanje: 35 minUzrast: 3 – 9 godina\nTati Slikovnici se u ovoj
  priči pridružuje jedna od njegovih prijateljica Teta NeMirna ili Tena Ten
 a! Zajedno glume\, sviraju i izvode osunčanu slikovnicu “Sunčasta” koju je
  napisao legendarni meteorolog Zoran Vakula\, a ilustrirao isto tako glaso
 viti Nik Titanik!\nPredstava SUNČASTA je interaktivna predstava koja objed
 injuje dramsku\, literarnu i glazbenu umjetnost. 'Sunčasta' je treća u pla
 niranoj seriji meteoslikovnica 'Vremenaste priče'. Cilj im je educirati\, 
 približiti neke često spominjane meteorološke termine djeci\, osobito star
 ije vrtićke skupine i nižih razreda osnovne škole\, kako bi bolje razumjel
 i i imali koristi od meteoroloških informacija.\nSunčica se jednog dana pr
 obudila\, otvorila prozor i rekla: “Dobro jutro\, Sunce!”\nAli sunca nije 
 bilo.\nŠto se događa sa suncem kad ga nema\, je li sunce dobro ili može po
 stati opasno\, te mnoga druga pitanja uz 'najsjajniju zvijezdu' tema su ov
 e super zabavne predstave. Ova ljetna hit predstava Tate Slikovnice odigra
 na je dvadesetak puta diljem Hrvatske\, a djeca u njoj sudjeluju na mnoge 
 načine: raspravljajući s Tatom Slikovnicom\, pjevajući\, plešući i smijući
  se s Tetom NeMirnom i Tetom Tenom.\nCijena ulaznice: 4 EUR\nRezervacija i
  prodaja ulaznica isključivo u radno vrijeme blagajne kazališta: srijedom 
 i petkom od 10 do 12 sati\, četvrtkom od 15 do 17 sati\, te sat vremena pr
 ije početka predstave\nKontakt: 099 273 1616\nKlikni i kupi ulaznicu onlin
 e!\n&nbsp\;\n&nbsp\; https://www.gkp.hr/program/event/848-suncasta-mali-te
 atar
DTSTART:20240518T160000Z
DTEND:20240518T164500Z
LOCATION:Gradsko kazalište Požega (Trg Svetog Trojstva\, 34000\, Požega\, C
 roatia)
SUMMARY:Sunčasta - Mali Teatar
URL:https://www.gkp.hr/program/event/848-suncasta-mali-teatar
END:VEVENT
BEGIN:VEVENT
UID:20260421T080133UTC-665524u8hm@https://www.gkp.hr/
DTSTAMP:20260421T080133Z
DESCRIPTION:Redatelj: Branko Ivanda\nANSAMBL PREDSTAVE:&nbsp\;Henrik - Sini
 ša Popović\, Konrad - Goran Grgić\, Krisztina - Zrinka Cvitešić / Iva Miha
 lić\nKAD SVIJEĆE DOGORE -&nbsp\;prema romanu Sandora Maria i adaptaciji Ch
 ristophera Hamptona\nŠto je privuklo redatelja Branka Ivandu da se vrati ž
 ivom prostoru teatarske scene u najznačajnijem Hrvatskom kazalištu i\, s t
 roje sjajnih glumaca\, postavi maestralnu dramu Sandora Marai Kad svijeće 
 dogore? Dok se bauk masovne zaraze i straha od bolnog umiranja širi zemalj
 skom kuglom Marai nas vraća u intimni svijet živih lica i kontraditornih m
 oralnih stavova. Ako je smrt zadana i neizbježna\, onda postaju dominantna
  pitanja odnosa muškarca i žene\, prijateljstva i izdajstva\, moralnost ub
 ojstva u namjeri i kao kruna: Što je smisao ljudskog života\, preživjeti i
 li doživjeti? Maraieva dramatična introspekcija budi kreativnu strast i ne
 odoljivu potrebu da se dramska lica oplode životnom uvjerljivošću\, a publ
 ici udahne jedinstveni emotivni doživljaj. Marai preskaće banalnosti i piš
 e o suštini. A povratak suštini je za sve nas pomalo zaboravljena kategori
 ja.\nDvojica prijatelja nalaze se nakon trideset godina i svojevrsnim verb
 alnim dvobojem suočavaju se s dugo prešućivanom tajnom njihovog odnosa. Št
 o ih je razdvojilo i što ih je ponovo spojilo u jednoj burnoj noći\, da bi
  se ponovo rastali\, ali ovaj put zauvijek? Da li je to duh mrtve žene koj
 a se pojavljuje prelazeći u njihovu osobnu realnost? Koja je uloga glazbe 
 u njihovim životima\, poglavito Chopina? Dvojica ostarjelih muškaraca i tr
 i žene isprepliću svoje živote\, mješaju prošlost sa sadašnjošću dajući pr
 iči okvir napetog suspensa. Evocirajući prošlost\, skidajući veo po veo s 
 tajanstvenog događaja\, koji je turbulentno promijenio njihove živote\, pr
 enose dramski sukob u sadašnjost i tražeći razrješenje plešu između osvete
  i pomirbe. Tražeći svrhu svojih života\, jedno epizodno lice će im prigov
 oriti: Što hoćete? Preživjeli ste. Da li je zaista svrha naših života prež
 ivjeti? Na to pitanje Marai daje konkretan odgovor.\nA odgovor daje i krea
 tivni tim predstave Kad svijeće dogore. Zaveden i inspiriran\, Ivanda slij
 edi Maraiev put prema središtu tamnih prostora naše psihe. Odriče se efeka
 ta teatra vizualnih i fizičkih atrakcija te vodi svoje glumce do dubokih i
 ntimnih odnosa u kojem svaka riječ\, ponekad šapat\, traži uvjerljivost u 
 privatnosti glumčeve osobe. Nazovimo to shvaćanjem Maraievog de profundisa
  ili pokušajem povratka uvjerljivosti kazališne riječi.\nU svom Dnevniku M
 arai je 5. sijećnja 1989. zapisao posljednju bilješku: Čekam poziv\, ne po
 žurujem ga\, ali i ne odlažem. Vrijeme je. Nepuna dva mjeseca nakon ove su
 dbinske najave\, gotovo potpuno slijep i prepušten samoći četrdesetgodišnj
 eg izgnanstva\, Sandor Marai\, pod sunčanim nebom San Diega\, izvršio je s
 amoubojstvo. Veliki mađarski pisac\, ovim činom potvrdio je hrabrost i dos
 ljednost opsesijama svojih romana i eseja\, izbjegavajući pomodnost domina
 ntne literalne klime. Sudbine njegovih lica su egzistencijalno dramatične\
 , krajnje senzibilne i duboko introspektivne. U domovini pomalo zaboravlje
 n\, u svijetu otkriven tek u dvadeset prvom stoljeću\, danas je jedan od n
 ajznačajnijih pisaca našeg vremena.\nCijena ulaznice: 10 EUR (studenti i u
 mirovljenici: 7 EUR )\nProdaja ulaznica u radno vrijeme blagajne kazališta
 : srijedom i petkom od 10 do 12 sati\, četvrtkom od 15 do 17 sati\, te sat
  vremena prije početka predstave\nKontakt: 099 273 1616\nKlikni i kupi ula
 znicu online!\n&nbsp\; https://www.gkp.hr/program/event/849-kad-svijece-do
 gore-teatar-erato-hnk-zagreb
DTSTART:20240519T173000Z
DTEND:20240519T185000Z
LOCATION:Gradsko kazalište Požega (Trg Svetog Trojstva\, 34000\, Požega\, C
 roatia)
SUMMARY:Kad svijeće dogore - Teatar Erato & HNK Zagreb
URL:https://www.gkp.hr/program/event/849-kad-svijece-dogore-teatar-erato-hn
 k-zagreb
END:VEVENT
BEGIN:VEVENT
UID:20260421T080133UTC-6662UUPwxv@https://www.gkp.hr/
DTSTAMP:20260421T080133Z
DESCRIPTION:13. svibnja u 20.00 h\nGostioničarka gostuje u Novoj Gradiški\,
  Dom kulture Nova Gradiška\nAdaptacija teksta: Lada Kaštelan i Davor Svedr
 užićRedatelj: Davor Svedružić\nGlume:Ružica Maurus……….. Gostioničarka Ruža
 Marin Klišmanić……… Kapetan Lujo BonaAntonio Jakupčević……. Gabor Fösveny Ba
 latoni GrófGoran Malus…………… Gospodin Antun SvinjarevićLena Medar……………. Ana
 Anabela Sulić………….. MarijanaIvan Vukelić……………. FranjoMatko Trnačić………….. M
 ali https://www.gkp.hr/program/event/852-gostionicarka-gostovanje-u-novoj-
 gradiski
DTSTART:20240513T180000Z
DTEND:20240513T200000Z
LOCATION:Dom kulture Nova Gradiška (Ul. Alojzija Stepinca\, Nova Gradiška)
SUMMARY:Gostioničarka - gostovanje u Novoj Gradiški
URL:https://www.gkp.hr/program/event/852-gostionicarka-gostovanje-u-novoj-g
 radiski
END:VEVENT
BEGIN:VEVENT
UID:20260421T080133UTC-6663Rj450P@https://www.gkp.hr/
DTSTAMP:20260421T080133Z
DESCRIPTION:17. svibnja u 21.00 h\nGostioničarka gostuje u Vukovaru na 31. 
 Festivalu glumca\nAdaptacija teksta: Lada Kaštelan i Davor SvedružićRedate
 lj: Davor Svedružić\nGlume:Ružica Maurus……….. Gostioničarka RužaMarin Kliš
 manić……… Kapetan Lujo BonaAntonio Jakupčević……. Gabor Fösveny Balatoni Gró
 fGoran Malus…………… Gospodin Antun SvinjarevićLena Medar……………. AnaAnabela Su
 lić………….. MarijanaIvan Vukelić……………. FranjoMatko Trnačić………….. Mali\n&nbsp
 \; https://www.gkp.hr/program/event/853-gostionicarka-gostovanje-na-31-fes
 tivalu-glumca
DTSTART:20240517T190000Z
DTEND:20240517T210000Z
LOCATION:Hrvatski dom Vukovar (Ulica Josipa Jurja Strossmayera 20\, Vukovar
 )
SUMMARY:Gostioničarka - gostovanje na 31. Festivalu glumca
URL:https://www.gkp.hr/program/event/853-gostionicarka-gostovanje-na-31-fes
 tivalu-glumca
END:VEVENT
END:VCALENDAR
