BEGIN:VCALENDAR
VERSION:2.0
PRODID:-//https://www.gkp.hr///NONSGML kigkonsult.se iCalcreator 2.10.15//
METHOD:PUBLISH
BEGIN:VEVENT
UID:20260420T152727UTC-3936Nemicw@https://www.gkp.hr/
DTSTAMP:20260420T152727Z
DESCRIPTION:18. lipnja u 18.00 sati – Završni koncert Glazbene radionice No
 ta / ulaz besplatan https://www.gkp.hr/program/event/868-zavrsni-koncert-g
 lazbene-radionice-nota
DTSTART:20240618T160000Z
DTEND:20240618T170000Z
LOCATION:Gradsko kazalište Požega (Trg Svetog Trojstva\, 34000\, Požega\, C
 roatia)
SUMMARY:Završni koncert Glazbene radionice Nota
URL:https://www.gkp.hr/program/event/868-zavrsni-koncert-glazbene-radionice
 -nota
END:VEVENT
BEGIN:VEVENT
UID:20260420T152727UTC-39372sl6Lj@https://www.gkp.hr/
DTSTAMP:20260420T152727Z
DESCRIPTION:Svečana akademija - Gimnazija Požega https://www.gkp.hr/program
 /event/869-svecana-akademija-gimnazija-pozega
DTSTART:20240621T100000Z
DTEND:20240621T110000Z
LOCATION:Gradsko kazalište Požega (Trg Svetog Trojstva\, 34000\, Požega\, C
 roatia)
SUMMARY:Svečana akademija - Gimnazija Požega
URL:https://www.gkp.hr/program/event/869-svecana-akademija-gimnazija-pozega
END:VEVENT
BEGIN:VEVENT
UID:20260420T152727UTC-3938S4LnBv@https://www.gkp.hr/
DTSTAMP:20260420T152727Z
DESCRIPTION:Drvo bajki - Kako kaže...? u Kutjevu u 19.30 h\n-u parku (kapel
 a Sv. Josipa) https://www.gkp.hr/program/event/872-kako-kaze-drvo-bajki-u-
 kutjevu
DTSTART:20240620T173000Z
DTEND:20240620T180000Z
LOCATION:Kutjevo (U parku (Kapela Sv. Josipa))
SUMMARY:Kako kaže...? - Drvo bajki u Kutjevu
URL:https://www.gkp.hr/program/event/872-kako-kaze-drvo-bajki-u-kutjevu
END:VEVENT
END:VCALENDAR
