BEGIN:VCALENDAR
VERSION:2.0
PRODID:-//https://www.gkp.hr///NONSGML kigkonsult.se iCalcreator 2.10.15//
METHOD:PUBLISH
BEGIN:VEVENT
UID:20260423T080723UTC-3593UOIEFp@https://www.gkp.hr/
DTSTAMP:20260423T080723Z
DESCRIPTION:Otvorenje izložbe fotografija Ivice LajtneraIzložba dugogodišnj
 eg muzejskog tehničara predstavlja pregled fotografija muzejskih predmeta&
 nbsp\;kroz oko fotografa.\nIzložba bi se sastojala od tri cjeline: mineral
 i\, puž&nbsp\;forma i struktura i mrtva priroda koja prikazuje&nbsp\;predm
 ete rasformiranog stalnog postava zoološkog&nbsp\;odjela. Minerali su snim
 ljeni u koloru\, a dvije druge&nbsp\;teme u crno bijeloj tehnici.&nbsp\;Iv
 ica Lajtner je većinu svog fotografskog rada&nbsp\;realizirao u crno-bijel
 oj fotografiji i nastoji svaku&nbsp\;izložbu ostvariti u toj tehnici. Na o
 voj izložbi iskazuje&nbsp\;nostalgiju za starim Hrvatskim prirodoslovnim&n
 bsp\;muzejom u kojem je i sam radio 80-ih godina\,prikazujući kroz 18 foto
 grafija velikog formata&nbsp\;zaustavljeni pogled u fundus i interijer muz
 eja kakvog smo poznavali od 1867. do potresa u ožujku 2020. godine.\nUlaz 
 slobodan! https://www.gkp.hr/program/event/748-otvorenje-izlozbe-fotografi
 ja-sjecanja
DTSTART:20230919T170000Z
DTEND:20230919T180000Z
LOCATION:Gradsko kazalište Požega - Galerija 'Ciraki' ()
SUMMARY:Otvorenje izložbe fotografija - Sjećanja
URL:https://www.gkp.hr/program/event/748-otvorenje-izlozbe-fotografija-sjec
 anja
END:VEVENT
BEGIN:VEVENT
UID:20260423T080723UTC-3595pXgZEm@https://www.gkp.hr/
DTSTAMP:20260423T080723Z
DESCRIPTION:Propovijed je dramska komedija s dva lika\, autora Billa C. Dav
 isa. Fokusira se na sukob generacija i stavova između župnika pred mirovin
 om i idealističkog đakona koji mu je dodijeljen. Otac Tim Farley vrlo je p
 opularan među svojim župljanima zbog svog šarma\, duhovitosti\, jednostavn
 og ponašanja i zabavnih\, ali nespornih propovijedi. Dolson je vatrogasac 
 koji želi promijeniti Crkvu. Uživa napadati Farleyevu teologiju “pjesme i 
 plesa” i njegovu sklonost piću. Smatra da je njegov poziv istjerati župlja
 ne iz učmalosti i samozadovoljnosti te postavlja neugodna pitanja poput: Z
 ašto žene ne bi mogle biti svećenici?\, Treba li privrženost između dva mu
 škarca odobravanje? Zašto propovijedi moraju podilaziti župljanima? Čemu s
 luže biskupovi savjetnici? itd. Farley se sviđa Dolsonov žar\, ali mu suge
 rira lakši put\, koji neće nikoga iritirati.&nbsp\;Svaki čovjek ima nešto 
 naučiti drugog pa i o tome kako obavljati svoju (svećeničku) dužnost.\nGlu
 me: Siniša Popović\, Ivica Pucar i Ana PerkovićRedatelj: Branko IvandaScen
 ograf: Miljenko Sekulić\nCijena ulaznice: 7 EUR / 52\,74 kn (studenti i um
 irovljenici: 5\,5 EUR / 41\,44 kn)Rezervacije: 034/273-161\, marketing@gkp
 .hr\, FBRadno vrijeme blagajne kazališta – srijedom i petkom od 10 do 12 s
 ati\, četvrtkom od 15 do 17 sati\, te sat vremena prije početka predstave&
 nbsp\;\n&nbsp\; https://www.gkp.hr/program/event/749-propovijed-teatar-era
 to
DTSTART:20230922T180000Z
DTEND:20230922T192000Z
LOCATION:Gradsko kazalište Požega (Trg Svetog Trojstva\, 34000\, Požega\, C
 roatia)
SUMMARY:Propovijed - Teatar Erato
URL:https://www.gkp.hr/program/event/749-propovijed-teatar-erato
END:VEVENT
BEGIN:VEVENT
UID:20260423T080723UTC-3597mdj3OT@https://www.gkp.hr/
DTSTAMP:20260423T080723Z
DESCRIPTION:Organizator: GFR Film Video Požega\nPoneseni atmosferom Svjetsk
 og nogometnog prvenstva 2018. i trijumfom hrvatske reprezentacije\, Zolja\
 , Jasmin i Mali opljačkaju benzinsku postaju kako bi skupili novac za put 
 u Moskvu na finale. Pljačka pođe po krivu\, a tijekom bijega završe u Bosn
 i i zalutaju u kamp za obuku islamističkih terorista.\nRežija: Dario Lonja
 kScenarij: Dario Lonjak\, Velimir Grgić\, Ivo BalenovićKamera: Mirko Pivče
 vićMontaža: Ivor ŠonjeOblikovanje zvuka: Tihomir VrbanecGlazba: Bojan Petk
 ovićKostimografija: Branka TkalčecScenografija: Antonio PatljakUloge: Alen
  Liverić\, Branko Janković\, Borko Perić\, Dejan Aćimović\, Slavko Sobin\,
  Mijo Jurišić\, Nerman Mahmutović\, Maja Jurić\, Ivan Ožegović\nUlaz slobo
 dan! https://www.gkp.hr/program/event/754-divljaci-filmska-projekcija
DTSTART:20230920T180000Z
DTEND:20230920T192000Z
LOCATION:Gradsko kazalište Požega (Trg Svetog Trojstva\, 34000\, Požega\, C
 roatia)
SUMMARY:Divljaci - Filmska projekcija
URL:https://www.gkp.hr/program/event/754-divljaci-filmska-projekcija
END:VEVENT
END:VCALENDAR
