BEGIN:VCALENDAR
VERSION:2.0
PRODID:-//https://www.gkp.hr///NONSGML kigkonsult.se iCalcreator 2.10.15//
METHOD:PUBLISH
BEGIN:VEVENT
UID:20260423T094827UTC-6356VLVfwV@https://www.gkp.hr/
DTSTAMP:20260423T094827Z
DESCRIPTION:Gusarsko blago - Gradsko kazalište Požega\nPredstavu igramo org
 anizirano za vrtiće. https://www.gkp.hr/program/event/750-gusarsko-blago-g
 radsko-kazaliste-pozega
DTSTART;VALUE=DATE:20230926
LOCATION:Gradsko kazalište Požega (Trg Svetog Trojstva\, 34000\, Požega\, C
 roatia)
SUMMARY:Gusarsko blago - Gradsko kazalište Požega
URL:https://www.gkp.hr/program/event/750-gusarsko-blago-gradsko-kazaliste-p
 ozega
END:VEVENT
BEGIN:VEVENT
UID:20260423T094827UTC-63576oZjDb@https://www.gkp.hr/
DTSTAMP:20260423T094827Z
DESCRIPTION:Gusarsko blago - Gradsko kazalište Požega\nPredstavu igramo org
 anizirano za vrtiće. https://www.gkp.hr/program/event/751-gusarsko-blago-g
 radsko-kazaliste-pozega
DTSTART;VALUE=DATE:20230927
LOCATION:Gradsko kazalište Požega (Trg Svetog Trojstva\, 34000\, Požega\, C
 roatia)
SUMMARY:Gusarsko blago - Gradsko kazalište Požega
URL:https://www.gkp.hr/program/event/751-gusarsko-blago-gradsko-kazaliste-p
 ozega
END:VEVENT
BEGIN:VEVENT
UID:20260423T094827UTC-63593SEed4@https://www.gkp.hr/
DTSTAMP:20260423T094827Z
DESCRIPTION:Umjetnička organizacija Plesna radionica Ilijane Lončar nastavl
 ja niz gostujućih profesionalnih plesnih predstava u Požegi 'Svi na plesnu
  predstavu'. 29. rujna 2023. (petak) s početkom 20 sati u Gradsko kazališt
 e Požega dolazi plesna predstava 'OKVIR'\, (ZPA).Ulaznice po cijeni od 7 E
 UR možete rezervirati na www.ilijanaloncar.hr ili na broj 098 884 057 te i
 h podići sat vremena prije izvedbe na blagajni kazališta.\nU ovom nultom v
 remenu\, vremenu praznog hoda\, u vremenu podijeljenosti i odijeljenosti\,
  jesmo li uopće još sposobni biti skupa? Shvaćamo li prisustvo drugog/ dru
 gih - njihovo djelovanje i odluke - bilo kako drukčije osim kao smetnju il
 i povod za natjecanje? Zarobljeni strahom\, vrhovnim krvnikom naše slobode
 \, krećemo se kroz prostor-vrijeme poput automata u vlastitim mikrouniverz
 umima\, u izbjegavanju drugih\, ili pak povremenom mehaničkom sinkronizira
 nju na točki zajedničkog kratkotrajnog interesa. Takva se konstelacija\, m
 eđutim\, ne može održati. Kolektivni organizam u kojem svaki pojedinačni e
 lement nema svijest o međusobnoj povezanosti i suovisnosti dolazi do iscrp
 ljivanja\, jer nema životvornog protoka. Raspad je neminovan\, a time i pr
 omjena. Raspad. Promjena. Reset. Što dalje? U prostranstvu varijanti\, u p
 aralelnim dimenzijama različitih scenarija\, postoji prvi korak koji je st
 varanje novog okvira.Okvir je omeđivanje. Svođenje. Definiranje teritorija
 . No\, paradoksalno\, okvir je i prostor sagledive slobode. One koja zove 
 da joj se pogleda u oči. Da se pobjedi strah\, utiša pobjesnjeli ego. Taj 
 put nije linearan. Ego se previše odomaćio u ljudskim bićima i odavno nas 
 uvjerio da je on naš identitet. S egom se ima toliko toga izrazgovarati\, 
 ne birajući sredstva\, čak i nasilna. I opet paradoks: razgovarajući s dru
 gima\, najviše saznajemo o sebi\, vlastitom egu i njegovim koordinatama. A
  kada se spozna da je ego dijete straha\, svakoga od nas\, onda srce zna d
 a ga može umiriti.Okvir je mogućnost odučavanja i ponovnog učenja lekcije 
 zvane Biti čovjekom.\nKatarina Pejović\nKao polazište za umjetnički proces
  odabrano je propitivanje pojma narcizma - u kojoj mjeri je narcizam prisu
 tan u društvu i pojedincu\, koliko je u različitom opsegu dio naše svakodn
 evice – u suvremenom društvu u kojem smo svi opterećeni sami sa sobom? Ins
 piraciju za rad koreograf i autor predstave Borna Babić pronalazi u knjizi
  Narcizam: poricanje istinskog sebe američkog psihoterapeuta Alexandera Lo
 wena\, a o radu kaže: Oduvijek me zanimala ta kontradikcija između narcist
 ičkog i skromnog\, a koja je\, uvjeren sam\, u svima nama. Kad i kako odab
 iremo jednu od te dvije vlastite strane\, što ih aktivira i jesu li ti pri
 jelazi svjesni. Puno sam se puta susretao i prepoznavao u sebi i drugima t
 e dvije pozicije te sam ih poželio dublje razumjeti.\nBorna Babić plesni j
 e umjetnik iz Rijeke\, diplomirao je na cijenjenoj nizozemskoj plesnoj aka
 demiji Codarts Rotterdam\, a posljednjih nekoliko godina pleše u svjetski 
 poznatoj plesnoj kompaniji Ultima Vez / Wim Vandekeybus u Bruxellesu u Bel
 giji. https://www.gkp.hr/program/event/755-okvir-zagrebacki-plesni-ansambl
DTSTART:20230929T180000Z
DTEND:20230929T191500Z
LOCATION:Gradsko kazalište Požega (Trg Svetog Trojstva\, 34000\, Požega\, C
 roatia)
SUMMARY:Okvir - Zagrebački plesni ansambl
URL:https://www.gkp.hr/program/event/755-okvir-zagrebacki-plesni-ansambl
END:VEVENT
BEGIN:VEVENT
UID:20260423T094827UTC-6364exenn7@https://www.gkp.hr/
DTSTAMP:20260423T094827Z
DESCRIPTION:Komedija za jake žene i hrabre muškarce. Urnebesna komedija o ž
 eni koja traži ljubav. Komična i iskrena priča jedne žene koja\, tražeći o
 nog pravog\, na momente gubi samu sebe. Priča je to o zaljubljivoj i pomal
 o naivnoj djevojci od trenutka gubljenja nevinosti do zrelog doba. Suštins
 ki\, to je priča svake žene koja nastoji pronaći “onog pravog”.Priča o pam
 etnoj mladoj ženi koja radi glupe stvari. Zbog ljubavi. Zbog biološkog sat
 a. Zbog babe. O babi koja je tjera da se uda. O muškarcima koji ne bi da s
 e ožene. Priča koja će vas nasmijati i rasplakati. Priča koju će svaka žen
 a razumjeti....\nPostoje li sretni krajevi u ljubavi ili nas je\, kako kaž
 e glavna junakinja\, 'zajebao Holivud'? Pogledajte ovu monodramu koja će v
 as nasmijati do suza\, ali i natjerati da se zamislite nad vječitim pitanj
 em svake žene - jesam li ja normalna. Ova monodrama na komičan način prika
 zuje sazrijevanje od prvog zaljubljivanja do prvih bora i jednu od najvažn
 ijih borbi svake žene – borbu da prihvati samu sebe.Stand up komičarka i g
 lumica Ana Poznanović u svijet stand up komedije ulazi nakon objavljenog r
 omana „Vrati se mami\, siso“ koji govori o mladoj ženi koja se bezuspješno
  pokušava izboriti s balkanskim sistemom vrijednosti\, maminim sinovima i 
 svojom disfunkcionalnom obitelji.\nNakon ovog romana ulazi u svijet stand 
 up komedije\, najprije uz iskusne kolege komičare\, a zatim i sa samostaln
 im One woman show nastupima koji privlače kako žensku\, tako i mušku publi
 ku željnu brutalno iskrenih razgovora o muško-ženskim odnosima\, a naročit
 o ispovijesti o seksu i „dejtingu“ u vrijeme društvenih mreža.\nNakon više
 godišnjeg iskustva stand up komičarke konačno se oprobala i na „daskama ko
 je život znače“ sa monodramom „Ako sam žena\, nisam konj“.\nU njoj igra vi
 še „uloga“\, od 19-godišnje zaljubljene balavice do 40-godišnje žene koja 
 je prošla život ne postajući ništa pametnija kada je ljubav u pitanju.Ova 
 monodrama igra se s velikim uspjehom i publika se iznova vraća zbog komičn
 og\, ali nadasve iskrenog tona kojim su ispričane ženske muke\, strahovi i
  čežnje.\nCijena ulaznice: 12 EUR Informacije: 034/273-161\,&nbsp\;&nbsp\;
 marketing@gkp.hr\, FBUlaznice se mogu kupiti u uredovno vrijeme naše blaga
 jne srijedom i petkom od 10 do 12 h\, te četvrtkom od 15 do 17 h (rezervac
 ije ne primamo).&nbsp\;\n&nbsp\; https://www.gkp.hr/program/event/756-ako-
 sam-zena-nisam-konj-stand-up-komedija
DTSTART:20230927T180000Z
DTEND:20230927T191500Z
LOCATION:Gradsko kazalište Požega (Trg Svetog Trojstva\, 34000\, Požega\, C
 roatia)
SUMMARY: Ako sam žena nisam konj - stand up komedija
URL:https://www.gkp.hr/program/event/756-ako-sam-zena-nisam-konj-stand-up-k
 omedija
END:VEVENT
END:VCALENDAR
